{"text_format":"1","workbook":"xlsx","n_sheets":3,"sheets":["Items","Curves","Scored"],"not_rendered":{"charts":3,"images":0,"macros":1,"external_links":0,"defined_names":0,"comments":0,"pivot_tables":0},"unopened":[],"bounds":{"document_bytes":16777216,"sheet_cells":100000,"rows_first":2000,"rows_last":500,"rows_between":2000,"halvings":0,"cell_chars":16384,"cell_head_chars":4096},"cells_cut":0,"cells_raw":0,"read":"whole","date_system":"1900"}

{"sheet":"Items","index":0,"n_rows":6,"n_cols":6,"rows_kept":6,"cut":false,"hidden":false,"merged":[]}
["Item","V","W","X","Y","Z"]
["IRT A",1.7,0.9,1.8,2,1.2]
["IRT B",-1.9,-0.6,0,0.9,1.8]
["IRT C",0,0.2,0.1,0.2,0]
["Included",1,1,1,1,1]
["Correct",0,0,1,0,1]

{"sheet":"Curves","index":1,"n_rows":122,"n_cols":6,"rows_kept":122,"cut":false,"hidden":false,"merged":[]}
["Theta","V","W","X","Y","Z"]
[-6,{"$f":"Items!B$4+(1-Items!B$4)/(1+EXP(-Items!B$2*($A2-Items!B$3)))","v":9.3877078713804876E-4},{"$f":"Items!C$4+(1-Items!C$4)/(1+EXP(-Items!C$2*($A2-Items!C$3)))","v":0.20615270070520667},{"$f":"Items!D$4+(1-Items!D$4)/(1+EXP(-Items!D$2*($A2-Items!D$3)))","v":0.10001835917855194},{"$f":"Items!E$4+(1-Items!E$4)/(1+EXP(-Items!E$2*($A2-Items!E$3)))","v":0.20000081250435162},{"$f":"Items!F$4+(1-Items!F$4)/(1+EXP(-Items!F$2*($A2-Items!F$3)))","v":8.609268612756602E-5}]
[-5.9,{"$f":"Items!B$4+(1-Items!B$4)/(1+EXP(-Items!B$2*($A3-Items!B$3)))","v":1.1125360328603216E-3},{"$f":"Items!C$4+(1-Items!C$4)/(1+EXP(-Items!C$2*($A3-Items!C$3)))","v":0.20672725445277038},{"$f":"Items!D$4+(1-Items!D$4)/(1+EXP(-Items!D$2*($A3-Items!D$3)))","v":0.10002197983890894},{"$f":"Items!E$4+(1-Items!E$4)/(1+EXP(-Items!E$2*($A3-Items!E$3)))","v":0.2000009923948329},{"$f":"Items!F$4+(1-Items!F$4)/(1+EXP(-Items!F$2*($A3-Items!F$3)))","v":9.7068167079599626E-5}]
[-5.8,{"$f":"Items!B$4+(1-Items!B$4)/(1+EXP(-Items!B$2*($A4-Items!B$3)))","v":1.3184225532339462E-3},{"$f":"Items!C$4+(1-Items!C$4)/(1+EXP(-Items!C$2*($A4-Items!C$3)))","v":0.20735496429383049},{"$f":"Items!D$4+(1-Items!D$4)/(1+EXP(-Items!D$2*($A4-Items!D$3)))","v":0.10002631451803783},{"$f":"Items!E$4+(1-Items!E$4)/(1+EXP(-Items!E$2*($A4-Items!E$3)))","v":0.2000012121134532},{"$f":"Items!F$4+(1-Items!F$4)/(1+EXP(-Items!F$2*($A4-Items!F$3)))","v":1.0944269832050534E-4}]
[-5.7,{"$f":"Items!B$4+(1-Items!B$4)/(1+EXP(-Items!B$2*($A5-Items!B$3)))","v":1.5623509503289617E-3},{"$f":"Items!C$4+(1-Items!C$4)/(1+EXP(-Items!C$2*($A5-Items!C$3)))","v":0.208040651106779},{"$f":"Items!D$4+(1-Items!D$4)/(1+EXP(-Items!D$2*($A5-Items!D$3)))","v":0.1000315040162351},{"$f":"Items!E$4+(1-Items!E$4)/(1+EXP(-Items!E$2*($A5-Items!E$3)))","v":0.20000148047821831},{"$f":"Items!F$4+(1-Items!F$4)/(1+EXP(-Items!F$2*($A5-Items!F$3)))","v":1.2339457598623172E-4}]
[-5.6,{"$f":"Items!B$4+(1-Items!B$4)/(1+EXP(-Items!B$2*($A6-Items!B$3)))","v":1.851326181206039E-3},{"$f":"Items!C$4+(1-Items!C$4)/(1+EXP(-Items!C$2*($A6-Items!C$3)))","v":0.20878955410447456},{"$f":"Items!D$4+(1-Items!D$4)/(1+EXP(-Items!D$2*($A6-Items!D$3)))","v":0.10003771689486662},{"$f":"Items!E$4+(1-Items!E$4)/(1+EXP(-Items!E$2*($A6-Items!E$3)))","v":0.20000180825943834},{"$f":"Items!F$4+(1-Items!F$4)/(1+EXP(-Items!F$2*($A6-Items!F$3)))","v":1.3912480715655816E-4}]
[-5.5,{"$f":"Items!B$4+(1-Items!B$4)/(1+EXP(-Items!B$2*($A7-Items!B$3)))","v":2.1936333567087458E-3},{"$f":"Items!C$4+(1-Items!C$4)/(1+EXP(-Items!C$2*($A7-Items!C$3)))","v":0.20960736344794192},{"$f":"Items!D$4+(1-Items!D$4)/(1+EXP(-Items!D$2*($A7-Items!D$3)))","v":0.10004515494821539},{"$f":"Items!E$4+(1-Items!E$4)/(1+EXP(-Items!E$2*($A7-Items!E$3)))","v":0.20000220861196016},{"$f":"Items!F$4+(1-Items!F$4)/(1+EXP(-Items!F$2*($A7-Items!F$3)))","v":1.5685999966687179E-4}]
[-5.4,{"$f":"Items!B$4+(1-Items!B$4)/(1+EXP(-Items!B$2*($A8-Items!B$3)))","v":2.5990677623233469E-3},{"$f":"Items!C$4+(1-Items!C$4)/(1+EXP(-Items!C$2*($A8-Items!C$3)))","v":0.21050025466968225},{"$f":"Items!D$4+(1-Items!D$4)/(1+EXP(-Items!D$2*($A8-Items!D$3)))","v":0.1000540597531227},{"$f":"Items!E$4+(1-Items!E$4)/(1+EXP(-Items!E$2*($A8-Items!E$3)))","v":0.20000269760309097},{"$f":"Items!F$4+(1-Items!F$4)/(1+EXP(-Items!F$2*($A8-Items!F$3)))","v":1.7685561880001287E-4}]
[-5.3,{"$f":"Items!B$4+(1-Items!B$4)/(1+EXP(-Items!B$2*($A9-Items!B$3)))","v":3.0792046214773005E-3},{"$f":"Items!C$4+(1-Items!C$4)/(1+EXP(-Items!C$2*($A9-Items!C$3)))","v":0.21147492485079047},{"$f":"Items!D$4+(1-Items!D$4)/(1+EXP(-Items!D$2*($A9-Items!D$3)))","v":0.10006472050839665},{"$f":"Items!E$4+(1-Items!E$4)/(1+EXP(-Items!E$2*($A9-Items!E$3)))","v":0.20000329485739587},{"$f":"Items!F$4+(1-Items!F$4)/(1+EXP(-Items!F$2*($A9-Items!F$3)))","v":1.9939965721107084E-4}]
[-5.2,{"$f":"Items!B$4+(1-Items!B$4)/(1+EXP(-Items!B$2*($A10-Items!B$3)))","v":3.6477148207749248E-3},{"$f":"Items!C$4+(1-Items!C$4)/(1+EXP(-Items!C$2*($A10-Items!C$3)))","v":0.21253863045283886},{"$f":"Items!D$4+(1-Items!D$4)/(1+EXP(-Items!D$2*($A10-Items!D$3)))","v":0.10007748341751481},{"$f":"Items!E$4+(1-Items!E$4)/(1+EXP(-Items!E$2*($A10-Items!E$3)))","v":0.20000402434424142},{"$f":"Items!F$4+(1-Items!F$4)/(1+EXP(-Items!F$2*($A10-Items!F$3)))","v":2.248167702332953E-4}]
[-5.0999999999999996,{"$f":"Items!B$4+(1-Items!B$4)/(1+EXP(-Items!B$2*($A11-Items!B$3)))","v":4.3207335199119202E-3},{"$f":"Items!C$4+(1-Items!C$4)/(1+EXP(-Items!C$2*($A11-Items!C$3)))","v":0.2136992266525822},{"$f":"Items!D$4+(1-Items!D$4)/(1+EXP(-Items!D$2*($A11-Items!D$3)))","v":0.10009276291778371},{"$f":"Items!E$4+(1-Items!E$4)/(1+EXP(-Items!E$2*($A11-Items!E$3)))","v":0.20000491533968179},{"$f":"Items!F$4+(1-Items!F$4)/(1+EXP(-Items!F$2*($A11-Items!F$3)))","v":2.5347293521645102E-4}]
[-5,{"$f":"Items!B$4+(1-Items!B$4)/(1+EXP(-Items!B$2*($A12-Items!B$3)))","v":5.1172892300414873E-3},{"$f":"Items!C$4+(1-Items!C$4)/(1+EXP(-Items!C$2*($A12-Items!C$3)))","v":0.2149652079634837},{"$f":"Items!D$4+(1-Items!D$4)/(1+EXP(-Items!D$2*($A12-Items!D$3)))","v":0.10011105511838761},{"$f":"Items!E$4+(1-Items!E$4)/(1+EXP(-Items!E$2*($A12-Items!E$3)))","v":0.20000600360127771},{"$f":"Items!F$4+(1-Items!F$4)/(1+EXP(-Items!F$2*($A12-Items!F$3)))","v":2.8578070084187918E-4}]
[-4.9000000000000004,{"$f":"Items!B$4+(1-Items!B$4)/(1+EXP(-Items!B$2*($A13-Items!B$3)))","v":6.0598014915841103E-3},{"$f":"Items!C$4+(1-Items!C$4)/(1+EXP(-Items!C$2*($A13-Items!C$3)))","v":0.21634574985124241},{"$f":"Items!D$4+(1-Items!D$4)/(1+EXP(-Items!D$2*($A13-Items!D$3)))","v":0.10013295388049101},{"$f":"Items!E$4+(1-Items!E$4)/(1+EXP(-Items!E$2*($A13-Items!E$3)))","v":0.20000733280297589},{"$f":"Items!F$4+(1-Items!F$4)/(1+EXP(-Items!F$2*($A13-Items!F$3)))","v":3.2220510053134382E-4}]
[-4.8,{"$f":"Items!B$4+(1-Items!B$4)/(1+EXP(-Items!B$2*($A14-Items!B$3)))","v":7.174655609074738E-3},{"$f":"Items!C$4+(1-Items!C$4)/(1+EXP(-Items!C$2*($A14-Items!C$3)))","v":0.21785075095922579},{"$f":"Items!D$4+(1-Items!D$4)/(1+EXP(-Items!D$2*($A14-Items!D$3)))","v":0.10015917005692002},{"$f":"Items!E$4+(1-Items!E$4)/(1+EXP(-Items!E$2*($A14-Items!E$3)))","v":0.20000895628760409},{"$f":"Items!F$4+(1-Items!F$4)/(1+EXP(-Items!F$2*($A14-Items!F$3)))","v":3.6327031321807806E-4}]
[-4.7,{"$f":"Items!B$4+(1-Items!B$4)/(1+EXP(-Items!B$2*($A15-Items!B$3)))","v":8.4928628516443457E-3},{"$f":"Items!C$4+(1-Items!C$4)/(1+EXP(-Items!C$2*($A15-Items!C$3)))","v":0.21949087545222229},{"$f":"Items!D$4+(1-Items!D$4)/(1+EXP(-Items!D$2*($A15-Items!D$3)))","v":0.10019055450948322},{"$f":"Items!E$4+(1-Items!E$4)/(1+EXP(-Items!E$2*($A15-Items!E$3)))","v":0.2000109392072677},{"$f":"Items!F$4+(1-Items!F$4)/(1+EXP(-Items!F$2*($A15-Items!F$3)))","v":4.0956716498605043E-4}]
[-4.5999999999999996,{"$f":"Items!B$4+(1-Items!B$4)/(1+EXP(-Items!B$2*($A16-Items!B$3)))","v":1.0050813883473756E-2},{"$f":"Items!C$4+(1-Items!C$4)/(1+EXP(-Items!C$2*($A16-Items!C$3)))","v":0.2212775948614927},{"$f":"Items!D$4+(1-Items!D$4)/(1+EXP(-Items!D$2*($A16-Items!D$3)))","v":0.10022812564169481},{"$f":"Items!E$4+(1-Items!E$4)/(1+EXP(-Items!E$2*($A16-Items!E$3)))","v":0.20001336113747847},{"$f":"Items!F$4+(1-Items!F$4)/(1+EXP(-Items!F$2*($A16-Items!F$3)))","v":4.6176157652407581E-4}]
[-4.5,{"$f":"Items!B$4+(1-Items!B$4)/(1+EXP(-Items!B$2*($A17-Items!B$3)))","v":1.1891131644386993E-2},{"$f":"Items!C$4+(1-Items!C$4)/(1+EXP(-Items!C$2*($A17-Items!C$3)))","v":0.22322322866907263},{"$f":"Items!D$4+(1-Items!D$4)/(1+EXP(-Items!D$2*($A17-Items!D$3)))","v":0.10027310232702603},{"$f":"Items!E$4+(1-Items!E$4)/(1+EXP(-Items!E$2*($A17-Items!E$3)))","v":0.20001631926982394},{"$f":"Items!F$4+(1-Items!F$4)/(1+EXP(-Items!F$2*($A17-Items!F$3)))","v":5.2060407411094257E-4}]
[-4.4000000000000004,{"$f":"Items!B$4+(1-Items!B$4)/(1+EXP(-Items!B$2*($A18-Items!B$3)))","v":1.4063627043245463E-2},{"$f":"Items!C$4+(1-Items!C$4)/(1+EXP(-Items!C$2*($A18-Items!C$3)))","v":0.22534098270324512},{"$f":"Items!D$4+(1-Items!D$4)/(1+EXP(-Items!D$2*($A18-Items!D$3)))","v":0.10032694328189627},{"$f":"Items!E$4+(1-Items!E$4)/(1+EXP(-Items!E$2*($A18-Items!E$3)))","v":0.20001993231115156},{"$f":"Items!F$4+(1-Items!F$4)/(1+EXP(-Items!F$2*($A18-Items!F$3)))","v":5.8694049608080273E-4}]
[-4.3,{"$f":"Items!B$4+(1-Items!B$4)/(1+EXP(-Items!B$2*($A19-Items!B$3)))","v":1.6626356107881622E-2},{"$f":"Items!C$4+(1-Items!C$4)/(1+EXP(-Items!C$2*($A19-Items!C$3)))","v":0.22764498422902124},{"$f":"Items!D$4+(1-Items!D$4)/(1+EXP(-Items!D$2*($A19-Items!D$3)))","v":0.10039139413310889},{"$f":"Items!E$4+(1-Items!E$4)/(1+EXP(-Items!E$2*($A19-Items!E$3)))","v":0.20002434524552046},{"$f":"Items!F$4+(1-Items!F$4)/(1+EXP(-Items!F$2*($A19-Items!F$3)))","v":6.6172404255704506E-4}]
[-4.2,{"$f":"Items!B$4+(1-Items!B$4)/(1+EXP(-Items!B$2*($A20-Items!B$3)))","v":1.9646769947688696E-2},{"$f":"Items!C$4+(1-Items!C$4)/(1+EXP(-Items!C$2*($A20-Items!C$3)))","v":0.23015031240688474},{"$f":"Items!D$4+(1-Items!D$4)/(1+EXP(-Items!D$2*($A20-Items!D$3)))","v":0.10046854366669986},{"$f":"Items!E$4+(1-Items!E$4)/(1+EXP(-Items!E$2*($A20-Items!E$3)))","v":0.20002973514968234},{"$f":"Items!F$4+(1-Items!F$4)/(1+EXP(-Items!F$2*($A20-Items!F$3)))","v":7.4602883383669764E-4}]
[-4.0999999999999996,{"$f":"Items!B$4+(1-Items!B$4)/(1+EXP(-Items!B$2*($A21-Items!B$3)))","v":2.3202938145644097E-2},{"$f":"Items!C$4+(1-Items!C$4)/(1+EXP(-Items!C$2*($A21-Items!C$3)))","v":0.23287302256037204},{"$f":"Items!D$4+(1-Items!D$4)/(1+EXP(-Items!D$2*($A21-Items!D$3)))","v":0.10056089102525921},{"$f":"Items!E$4+(1-Items!E$4)/(1+EXP(-Items!E$2*($A21-Items!E$3)))","v":0.20003631829496196},{"$f":"Items!F$4+(1-Items!F$4)/(1+EXP(-Items!F$2*($A21-Items!F$3)))","v":8.4106516230888139E-4}]
[-4,{"$f":"Items!B$4+(1-Items!B$4)/(1+EXP(-Items!B$2*($A22-Items!B$3)))","v":2.7384810950125685E-2},{"$f":"Items!C$4+(1-Items!C$4)/(1+EXP(-Items!C$2*($A22-Items!C$3)))","v":0.2358301624398294},{"$f":"Items!D$4+(1-Items!D$4)/(1+EXP(-Items!D$2*($A22-Items!D$3)))","v":0.10067142595045303},{"$f":"Items!E$4+(1-Items!E$4)/(1+EXP(-Items!E$2*($A22-Items!E$3)))","v":0.20004435881977825},{"$f":"Items!F$4+(1-Items!F$4)/(1+EXP(-Items!F$2*($A22-Items!F$3)))","v":9.4819664435372543E-4}]
[-3.9,{"$f":"Items!B$4+(1-Items!B$4)/(1+EXP(-Items!B$2*($A23-Items!B$3)))","v":3.2295464698450516E-2},{"$f":"Items!C$4+(1-Items!C$4)/(1+EXP(-Items!C$2*($A23-Items!C$3)))","v":0.23903977839904},{"$f":"Items!D$4+(1-Items!D$4)/(1+EXP(-Items!D$2*($A23-Items!D$3)))","v":0.10080372455406836},{"$f":"Items!E$4+(1-Items!E$4)/(1+EXP(-Items!E$2*($A23-Items!E$3)))","v":0.20005417931969582},{"$f":"Items!F$4+(1-Items!F$4)/(1+EXP(-Items!F$2*($A23-Items!F$3)))","v":1.0689595024419641E-3}]
[-3.8,{"$f":"Items!B$4+(1-Items!B$4)/(1+EXP(-Items!B$2*($A24-Items!B$3)))","v":3.8052247070992105E-2},{"$f":"Items!C$4+(1-Items!C$4)/(1+EXP(-Items!C$2*($A24-Items!C$3)))","v":0.24252090911845098},{"$f":"Items!D$4+(1-Items!D$4)/(1+EXP(-Items!D$2*($A24-Items!D$3)))","v":0.10096206355219778},{"$f":"Items!E$4+(1-Items!E$4)/(1+EXP(-Items!E$2*($A24-Items!E$3)))","v":0.20006617377828134},{"$f":"Items!F$4+(1-Items!F$4)/(1+EXP(-Items!F$2*($A24-Items!F$3)))","v":1.205084233778948E-3}]
[-3.7,{"$f":"Items!B$4+(1-Items!B$4)/(1+EXP(-Items!B$2*($A25-Items!B$3)))","v":4.4787703049786715E-2},{"$f":"Items!C$4+(1-Items!C$4)/(1+EXP(-Items!C$2*($A25-Items!C$3)))","v":0.24629356422108883},{"$f":"Items!D$4+(1-Items!D$4)/(1+EXP(-Items!D$2*($A25-Items!D$3)))","v":0.10115155642101671},{"$f":"Items!E$4+(1-Items!E$4)/(1+EXP(-Items!E$2*($A25-Items!E$3)))","v":0.20008082335512622},{"$f":"Items!F$4+(1-Items!F$4)/(1+EXP(-Items!F$2*($A25-Items!F$3)))","v":1.3585199504289591E-3}]
[-3.6,{"$f":"Items!B$4+(1-Items!B$4)/(1+EXP(-Items!B$2*($A26-Items!B$3)))","v":5.2650118435302901E-2},{"$f":"Items!C$4+(1-Items!C$4)/(1+EXP(-Items!C$2*($A26-Items!C$3)))","v":0.25037868484559722},{"$f":"Items!D$4+(1-Items!D$4)/(1+EXP(-Items!D$2*($A26-Items!D$3)))","v":0.10137831553630296},{"$f":"Items!E$4+(1-Items!E$4)/(1+EXP(-Items!E$2*($A26-Items!E$3)))","v":0.20009871566078899},{"$f":"Items!F$4+(1-Items!F$4)/(1+EXP(-Items!F$2*($A26-Items!F$3)))","v":1.5314617070032849E-3}]
[-3.5000000000000102,{"$f":"Items!B$4+(1-Items!B$4)/(1+EXP(-Items!B$2*($A27-Items!B$3)))","v":6.180346626358757E-2},{"$f":"Items!C$4+(1-Items!C$4)/(1+EXP(-Items!C$2*($A27-Items!C$3)))","v":0.25479808297946044},{"$f":"Items!D$4+(1-Items!D$4)/(1+EXP(-Items!D$2*($A27-Items!D$3)))","v":0.1016496450482435},{"$f":"Items!E$4+(1-Items!E$4)/(1+EXP(-Items!E$2*($A27-Items!E$3)))","v":0.20012056828644781},{"$f":"Items!F$4+(1-Items!F$4)/(1+EXP(-Items!F$2*($A27-Items!F$3)))","v":1.7263811657371314E-3}]
[-3.4000000000000101,{"$f":"Items!B$4+(1-Items!B$4)/(1+EXP(-Items!B$2*($A28-Items!B$3)))","v":7.2426485361516565E-2},{"$f":"Items!C$4+(1-Items!C$4)/(1+EXP(-Items!C$2*($A28-Items!C$3)))","v":0.25957435613282198},{"$f":"Items!D$4+(1-Items!D$4)/(1+EXP(-Items!D$2*($A28-Items!D$3)))","v":0.10197427002103784},{"$f":"Items!E$4+(1-Items!E$4)/(1+EXP(-Items!E$2*($A28-Items!E$3)))","v":0.20014725752397075},{"$f":"Items!F$4+(1-Items!F$4)/(1+EXP(-Items!F$2*($A28-Items!F$3)))","v":1.9460609850855358E-3}]
[-3.30000000000001,{"$f":"Items!B$4+(1-Items!B$4)/(1+EXP(-Items!B$2*($A29-Items!B$3)))","v":8.4710565730734461E-2},{"$f":"Items!C$4+(1-Items!C$4)/(1+EXP(-Items!C$2*($A29-Items!C$3)))","v":0.26473077377237175},{"$f":"Items!D$4+(1-Items!D$4)/(1+EXP(-Items!D$2*($A29-Items!D$3)))","v":0.10236260823099413},{"$f":"Items!E$4+(1-Items!E$4)/(1+EXP(-Items!E$2*($A29-Items!E$3)))","v":0.20017985341618663},{"$f":"Items!F$4+(1-Items!F$4)/(1+EXP(-Items!F$2*($A29-Items!F$3)))","v":2.1936333567087185E-3}]
[-3.2000000000000099,{"$f":"Items!B$4+(1-Items!B$4)/(1+EXP(-Items!B$2*($A30-Items!B$3)))","v":9.8856073178167872E-2},{"$f":"Items!C$4+(1-Items!C$4)/(1+EXP(-Items!C$2*($A30-Items!C$3)))","v":0.27029113186344045},{"$f":"Items!D$4+(1-Items!D$4)/(1+EXP(-Items!D$2*($A30-Items!D$3)))","v":0.10282709195634644},{"$f":"Items!E$4+(1-Items!E$4)/(1+EXP(-Items!E$2*($A30-Items!E$3)))","v":0.20021966252488108},{"$f":"Items!F$4+(1-Items!F$4)/(1+EXP(-Items!F$2*($A30-Items!F$3)))","v":2.4726231566347457E-3}]
[-3.1000000000000099,{"$f":"Items!B$4+(1-Items!B$4)/(1+EXP(-Items!B$2*($A31-Items!B$3)))","v":0.11506673204554808},{"$f":"Items!C$4+(1-Items!C$4)/(1+EXP(-Items!C$2*($A31-Items!C$3)))","v":0.27627957191928698},{"$f":"Items!D$4+(1-Items!D$4)/(1+EXP(-Items!D$2*($A31-Items!D$3)))","v":0.10338254808265067},{"$f":"Items!E$4+(1-Items!E$4)/(1+EXP(-Items!E$2*($A31-Items!E$3)))","v":0.2002682801043732},{"$f":"Items!F$4+(1-Items!F$4)/(1+EXP(-Items!F$2*($A31-Items!F$3)))","v":2.7869962190422469E-3}]
[-3.0000000000000102,{"$f":"Items!B$4+(1-Items!B$4)/(1+EXP(-Items!B$2*($A32-Items!B$3)))","v":0.13354172253321045},{"$f":"Items!C$4+(1-Items!C$4)/(1+EXP(-Items!C$2*($A32-Items!C$3)))","v":0.28272036116659904},{"$f":"Items!D$4+(1-Items!D$4)/(1+EXP(-Items!D$2*($A32-Items!D$3)))","v":0.10404664584484699},{"$f":"Items!E$4+(1-Items!E$4)/(1+EXP(-Items!E$2*($A32-Items!E$3)))","v":0.20032765373198885},{"$f":"Items!F$4+(1-Items!F$4)/(1+EXP(-Items!F$2*($A32-Items!F$3)))","v":3.1412132848293883E-3}]
[-2.9000000000000101,{"$f":"Items!B$4+(1-Items!B$4)/(1+EXP(-Items!B$2*($A33-Items!B$3)))","v":0.15446526508353245},{"$f":"Items!C$4+(1-Items!C$4)/(1+EXP(-Items!C$2*($A33-Items!C$3)))","v":0.28963763084559158},{"$f":"Items!D$4+(1-Items!D$4)/(1+EXP(-Items!D$2*($A33-Items!D$3)))","v":0.10484042245646366},{"$f":"Items!E$4+(1-Items!E$4)/(1+EXP(-Items!E$2*($A33-Items!E$3)))","v":0.20040016088566365},{"$f":"Items!F$4+(1-Items!F$4)/(1+EXP(-Items!F$2*($A33-Items!F$3)))","v":3.5402902209464627E-3}]
[-2.80000000000001,{"$f":"Items!B$4+(1-Items!B$4)/(1+EXP(-Items!B$2*($A34-Items!B$3)))","v":0.17799368578624397},{"$f":"Items!C$4+(1-Items!C$4)/(1+EXP(-Items!C$2*($A34-Items!C$3)))","v":0.29705507031338874},{"$f":"Items!D$4+(1-Items!D$4)/(1+EXP(-Items!D$2*($A34-Items!D$3)))","v":0.10578889762022667},{"$f":"Items!E$4+(1-Items!E$4)/(1+EXP(-Items!E$2*($A34-Items!E$3)))","v":0.20048870348754752},{"$f":"Items!F$4+(1-Items!F$4)/(1+EXP(-Items!F$2*($A34-Items!F$3)))","v":3.9898651489940545E-3}]
[-2.7000000000000099,{"$f":"Items!B$4+(1-Items!B$4)/(1+EXP(-Items!B$2*($A35-Items!B$3)))","v":0.20424030228408901},{"$f":"Items!C$4+(1-Items!C$4)/(1+EXP(-Items!C$2*($A35-Items!C$3)))","v":0.30499557555081785},{"$f":"Items!D$4+(1-Items!D$4)/(1+EXP(-Items!D$2*($A35-Items!D$3)))","v":0.10692178829335738},{"$f":"Items!E$4+(1-Items!E$4)/(1+EXP(-Items!E$2*($A35-Items!E$3)))","v":0.20059682306706936},{"$f":"Items!F$4+(1-Items!F$4)/(1+EXP(-Items!F$2*($A35-Items!F$3)))","v":4.496273160941127E-3}]
[-2.6000000000000099,{"$f":"Items!B$4+(1-Items!B$4)/(1+EXP(-Items!B$2*($A36-Items!B$3)))","v":0.23325893577145421},{"$f":"Items!C$4+(1-Items!C$4)/(1+EXP(-Items!C$2*($A36-Items!C$3)))","v":0.31348085192038938},{"$f":"Items!D$4+(1-Items!D$4)/(1+EXP(-Items!D$2*($A36-Items!D$3)))","v":0.10827433483055915},{"$f":"Items!E$4+(1-Items!E$4)/(1+EXP(-Items!E$2*($A36-Items!E$3)))","v":0.20072884095552052},{"$f":"Items!F$4+(1-Items!F$4)/(1+EXP(-Items!F$2*($A36-Items!F$3)))","v":5.0666293334661961E-3}]
[-2.5000000000000102,{"$f":"Items!B$4+(1-Items!B$4)/(1+EXP(-Items!B$2*($A37-Items!B$3)))","v":0.26502740053347779},{"$f":"Items!C$4+(1-Items!C$4)/(1+EXP(-Items!C$2*($A37-Items!C$3)))","v":0.32253097261206803},{"$f":"Items!D$4+(1-Items!D$4)/(1+EXP(-Items!D$2*($A37-Items!D$3)))","v":0.10988824836753369},{"$f":"Items!E$4+(1-Items!E$4)/(1+EXP(-Items!E$2*($A37-Items!E$3)))","v":0.20089002882628826},{"$f":"Items!F$4+(1-Items!F$4)/(1+EXP(-Items!F$2*($A37-Items!F$3)))","v":5.7089207770232723E-3}]
[-2.4000000000000101,{"$f":"Items!B$4+(1-Items!B$4)/(1+EXP(-Items!B$2*($A38-Items!B$3)))","v":0.29943285752602339},{"$f":"Items!C$4+(1-Items!C$4)/(1+EXP(-Items!C$2*($A38-Items!C$3)))","v":0.3321638961524907},{"$f":"Items!D$4+(1-Items!D$4)/(1+EXP(-Items!D$2*($A38-Items!D$3)))","v":0.11181278650339231},{"$f":"Items!E$4+(1-Items!E$4)/(1+EXP(-Items!E$2*($A38-Items!E$3)))","v":0.20108681596034317},{"$f":"Items!F$4+(1-Items!F$4)/(1+EXP(-Items!F$2*($A38-Items!F$3)))","v":6.4321084669185617E-3}]
[-2.30000000000001,{"$f":"Items!B$4+(1-Items!B$4)/(1+EXP(-Items!B$2*($A39-Items!B$3)))","v":0.33626130259564352},{"$f":"Items!C$4+(1-Items!C$4)/(1+EXP(-Items!C$2*($A39-Items!C$3)))","v":0.34239494862899617},{"$f":"Items!D$4+(1-Items!D$4)/(1+EXP(-Items!D$2*($A39-Items!D$3)))","v":0.11410595925944346},{"$f":"Items!E$4+(1-Items!E$4)/(1+EXP(-Items!E$2*($A39-Items!E$3)))","v":0.20132704086413952},{"$f":"Items!F$4+(1-Items!F$4)/(1+EXP(-Items!F$2*($A39-Items!F$3)))","v":7.2462395958313398E-3}]
[-2.2000000000000099,{"$f":"Items!B$4+(1-Items!B$4)/(1+EXP(-Items!B$2*($A40-Items!B$3)))","v":0.37519352553156676},{"$f":"Items!C$4+(1-Items!C$4)/(1+EXP(-Items!C$2*($A40-Items!C$3)))","v":0.35323627884917291},{"$f":"Items!D$4+(1-Items!D$4)/(1+EXP(-Items!D$2*($A40-Items!D$3)))","v":0.11683585895891885},{"$f":"Items!E$4+(1-Items!E$4)/(1+EXP(-Items!E$2*($A40-Items!E$3)))","v":0.20162025631123989},{"$f":"Items!F$4+(1-Items!F$4)/(1+EXP(-Items!F$2*($A40-Items!F$3)))","v":8.162571153159803E-3}]
[-2.1000000000000099,{"$f":"Items!B$4+(1-Items!B$4)/(1+EXP(-Items!B$2*($A41-Items!B$3)))","v":0.41580947706458854},{"$f":"Items!C$4+(1-Items!C$4)/(1+EXP(-Items!C$2*($A41-Items!C$3)))","v":0.36469629744075671},{"$f":"Items!D$4+(1-Items!D$4)/(1+EXP(-Items!D$2*($A41-Items!D$3)))","v":0.12008209482912867},{"$f":"Items!E$4+(1-Items!E$4)/(1+EXP(-Items!E$2*($A41-Items!E$3)))","v":0.20197809852530779},{"$f":"Items!F$4+(1-Items!F$4)/(1+EXP(-Items!F$2*($A41-Items!F$3)))","v":9.1937053672879812E-3}]
[-2.0000000000000102,{"$f":"Items!B$4+(1-Items!B$4)/(1+EXP(-Items!B$2*($A42-Items!B$3)))","v":0.45760205922564468},{"$f":"Items!C$4+(1-Items!C$4)/(1+EXP(-Items!C$2*($A42-Items!C$3)))","v":0.37677911377614903},{"$f":"Items!D$4+(1-Items!D$4)/(1+EXP(-Items!D$2*($A42-Items!D$3)))","v":0.12393729421917885},{"$f":"Items!E$4+(1-Items!E$4)/(1+EXP(-Items!E$2*($A42-Items!E$3)))","v":0.2024147330597667},{"$f":"Items!F$4+(1-Items!F$4)/(1+EXP(-Items!F$2*($A42-Items!F$3)))","v":1.0353737531091624E-2}]
[-1.9000000000000099,{"$f":"Items!B$4+(1-Items!B$4)/(1+EXP(-Items!B$2*($A43-Items!B$3)))","v":0.49999999999999578},{"$f":"Items!C$4+(1-Items!C$4)/(1+EXP(-Items!C$2*($A43-Items!C$3)))","v":0.38948398741851437},{"$f":"Items!D$4+(1-Items!D$4)/(1+EXP(-Items!D$2*($A43-Items!D$3)))","v":0.12850860554115029},{"$f":"Items!E$4+(1-Items!E$4)/(1+EXP(-Items!E$2*($A43-Items!E$3)))","v":0.20294739191954875},{"$f":"Items!F$4+(1-Items!F$4)/(1+EXP(-Items!F$2*($A43-Items!F$3)))","v":1.1658416554832962E-2}]
[-1.80000000000001,{"$f":"Items!B$4+(1-Items!B$4)/(1+EXP(-Items!B$2*($A44-Items!B$3)))","v":0.54239794077434667},{"$f":"Items!C$4+(1-Items!C$4)/(1+EXP(-Items!C$2*($A44-Items!C$3)))","v":0.40280481332986895},{"$f":"Items!D$4+(1-Items!D$4)/(1+EXP(-Items!D$2*($A44-Items!D$3)))","v":0.13391910145774474},{"$f":"Items!E$4+(1-Items!E$4)/(1+EXP(-Items!E$2*($A44-Items!E$3)))","v":0.20359701852875289},{"$f":"Items!F$4+(1-Items!F$4)/(1+EXP(-Items!F$2*($A44-Items!F$3)))","v":1.3125318337102648E-2}]
[-1.7000000000000099,{"$f":"Items!B$4+(1-Items!B$4)/(1+EXP(-Items!B$2*($A45-Items!B$3)))","v":0.58419052293540319},{"$f":"Items!C$4+(1-Items!C$4)/(1+EXP(-Items!C$2*($A45-Items!C$3)))","v":0.4167296621205534},{"$f":"Items!D$4+(1-Items!D$4)/(1+EXP(-Items!D$2*($A45-Items!D$3)))","v":0.14030893274480738},{"$f":"Items!E$4+(1-Items!E$4)/(1+EXP(-Items!E$2*($A45-Items!E$3)))","v":0.20438903911956025},{"$f":"Items!F$4+(1-Items!F$4)/(1+EXP(-Items!F$2*($A45-Items!F$3)))","v":1.4774031693272887E-2}]
[-1.6000000000000101,{"$f":"Items!B$4+(1-Items!B$4)/(1+EXP(-Items!B$2*($A46-Items!B$3)))","v":0.62480647446842519},{"$f":"Items!C$4+(1-Items!C$4)/(1+EXP(-Items!C$2*($A46-Items!C$3)))","v":0.43124039789999535},{"$f":"Items!D$4+(1-Items!D$4)/(1+EXP(-Items!D$2*($A46-Items!D$3)))","v":0.14783602275825652},{"$f":"Items!E$4+(1-Items!E$4)/(1+EXP(-Items!E$2*($A46-Items!E$3)))","v":0.2053542807394278},{"$f":"Items!F$4+(1-Items!F$4)/(1+EXP(-Items!F$2*($A46-Items!F$3)))","v":1.6626356107881435E-2}]
[-1.50000000000001,{"$f":"Items!B$4+(1-Items!B$4)/(1+EXP(-Items!B$2*($A47-Items!B$3)))","v":0.66373869740434888},{"$f":"Items!C$4+(1-Items!C$4)/(1+EXP(-Items!C$2*($A47-Items!C$3)))","v":0.44631239655856797},{"$f":"Items!D$4+(1-Items!D$4)/(1+EXP(-Items!D$2*($A47-Items!D$3)))","v":0.15667602045129589},{"$f":"Items!E$4+(1-Items!E$4)/(1+EXP(-Items!E$2*($A47-Items!E$3)))","v":0.20653005692252779},{"$f":"Items!F$4+(1-Items!F$4)/(1+EXP(-Items!F$2*($A47-Items!F$3)))","v":1.8706509954354383E-2}]
[-1.4000000000000099,{"$f":"Items!B$4+(1-Items!B$4)/(1+EXP(-Items!B$2*($A48-Items!B$3)))","v":0.70056714247396934},{"$f":"Items!C$4+(1-Items!C$4)/(1+EXP(-Items!C$2*($A48-Items!C$3)))","v":0.46191438634579007},{"$f":"Items!D$4+(1-Items!D$4)/(1+EXP(-Items!D$2*($A48-Items!D$3)))","v":0.16702115064942419},{"$f":"Items!E$4+(1-Items!E$4)/(1+EXP(-Items!E$2*($A48-Items!E$3)))","v":0.2079614414935233},{"$f":"Items!F$4+(1-Items!F$4)/(1+EXP(-Items!F$2*($A48-Items!F$3)))","v":2.1041347020468035E-2}]
[-1.30000000000001,{"$f":"Items!B$4+(1-Items!B$4)/(1+EXP(-Items!B$2*($A49-Items!B$3)))","v":0.73497259946651539},{"$f":"Items!C$4+(1-Items!C$4)/(1+EXP(-Items!C$2*($A49-Items!C$3)))","v":0.47800843024580281},{"$f":"Items!D$4+(1-Items!D$4)/(1+EXP(-Items!D$2*($A49-Items!D$3)))","v":0.17907752334636981},{"$f":"Items!E$4+(1-Items!E$4)/(1+EXP(-Items!E$2*($A49-Items!E$3)))","v":0.20970274798741922},{"$f":"Items!F$4+(1-Items!F$4)/(1+EXP(-Items!F$2*($A49-Items!F$3)))","v":2.3660578155460927E-2}]
[-1.2000000000000099,{"$f":"Items!B$4+(1-Items!B$4)/(1+EXP(-Items!B$2*($A50-Items!B$3)))","v":0.76674106422853971},{"$f":"Items!C$4+(1-Items!C$4)/(1+EXP(-Items!C$2*($A50-Items!C$3)))","v":0.49455006581111705},{"$f":"Items!D$4+(1-Items!D$4)/(1+EXP(-Items!D$2*($A50-Items!D$3)))","v":0.19306040631242313},{"$f":"Items!E$4+(1-Items!E$4)/(1+EXP(-Items!E$2*($A50-Items!E$3)))","v":0.21181922535461822},{"$f":"Items!F$4+(1-Items!F$4)/(1+EXP(-Items!F$2*($A50-Items!F$3)))","v":2.6596993576865555E-2}]
[-1.1000000000000101,{"$f":"Items!B$4+(1-Items!B$4)/(1+EXP(-Items!B$2*($A51-Items!B$3)))","v":0.79575969771590549},{"$f":"Items!C$4+(1-Items!C$4)/(1+EXP(-Items!C$2*($A51-Items!C$3)))","v":0.51148861284062075},{"$f":"Items!D$4+(1-Items!D$4)/(1+EXP(-Items!D$2*($A51-Items!D$3)))","v":0.20918695410256144},{"$f":"Items!E$4+(1-Items!E$4)/(1+EXP(-Items!E$2*($A51-Items!E$3)))","v":0.21438896796967297},{"$f":"Items!F$4+(1-Items!F$4)/(1+EXP(-Items!F$2*($A51-Items!F$3)))","v":2.9886679803635886E-2}]
[-1.00000000000001,{"$f":"Items!B$4+(1-Items!B$4)/(1+EXP(-Items!B$2*($A52-Items!B$3)))","v":0.82200631421375092},{"$f":"Items!C$4+(1-Items!C$4)/(1+EXP(-Items!C$2*($A52-Items!C$3)))","v":0.52876765275306625},{"$f":"Items!D$4+(1-Items!D$4)/(1+EXP(-Items!D$2*($A52-Items!D$3)))","v":0.22766595841043705},{"$f":"Items!E$4+(1-Items!E$4)/(1+EXP(-Items!E$2*($A52-Items!E$3)))","v":0.21750501674890405},{"$f":"Items!F$4+(1-Items!F$4)/(1+EXP(-Items!F$2*($A52-Items!F$3)))","v":3.3569223281482131E-2}]
[-0.90000000000001001,{"$f":"Items!B$4+(1-Items!B$4)/(1+EXP(-Items!B$2*($A53-Items!B$3)))","v":0.84553473491646303},{"$f":"Items!C$4+(1-Items!C$4)/(1+EXP(-Items!C$2*($A53-Items!C$3)))","v":0.54632567602763471},{"$f":"Items!D$4+(1-Items!D$4)/(1+EXP(-Items!D$2*($A53-Items!D$3)))","v":0.24868438317155092},{"$f":"Items!E$4+(1-Items!E$4)/(1+EXP(-Items!E$2*($A53-Items!E$3)))","v":0.22127759486149229},{"$f":"Items!F$4+(1-Items!F$4)/(1+EXP(-Items!F$2*($A53-Items!F$3)))","v":3.7687890508605493E-2}]
[-0.80000000000001004,{"$f":"Items!B$4+(1-Items!B$4)/(1+EXP(-Items!B$2*($A54-Items!B$3)))","v":0.86645827746678561},{"$f":"Items!C$4+(1-Items!C$4)/(1+EXP(-Items!C$2*($A54-Items!C$3)))","v":0.56409688610113418},{"$f":"Items!D$4+(1-Items!D$4)/(1+EXP(-Items!D$2*($A54-Items!D$3)))","v":0.27239081370531826},{"$f":"Items!E$4+(1-Items!E$4)/(1+EXP(-Items!E$2*($A54-Items!E$3)))","v":0.22583637175875992},{"$f":"Items!F$4+(1-Items!F$4)/(1+EXP(-Items!F$2*($A54-Items!F$3)))","v":4.2289771842033301E-2}]
[-0.70000000000002005,{"$f":"Items!B$4+(1-Items!B$4)/(1+EXP(-Items!B$2*($A55-Items!B$3)))","v":0.88493326795444671},{"$f":"Items!C$4+(1-Items!C$4)/(1+EXP(-Items!C$2*($A55-Items!C$3)))","v":0.58201214016655634},{"$f":"Items!D$4+(1-Items!D$4)/(1+EXP(-Items!D$2*($A55-Items!D$3)))","v":0.29887650299816348},{"$f":"Items!E$4+(1-Items!E$4)/(1+EXP(-Items!E$2*($A55-Items!E$3)))","v":0.2313325782374103},{"$f":"Items!F$4+(1-Items!F$4)/(1+EXP(-Items!F$2*($A55-Items!F$3)))","v":4.7425873177565692E-2}]
[-0.60000000000001996,{"$f":"Items!B$4+(1-Items!B$4)/(1+EXP(-Items!B$2*($A56-Items!B$3)))","v":0.90114392682182753},{"$f":"Items!C$4+(1-Items!C$4)/(1+EXP(-Items!C$2*($A56-Items!C$3)))","v":0.59999999999999654},{"$f":"Items!D$4+(1-Items!D$4)/(1+EXP(-Items!D$2*($A56-Items!D$3)))","v":0.3281554149960979},{"$f":"Items!E$4+(1-Items!E$4)/(1+EXP(-Items!E$2*($A56-Items!E$3)))","v":0.23794069854205199},{"$f":"Items!F$4+(1-Items!F$4)/(1+EXP(-Items!F$2*($A56-Items!F$3)))","v":5.3151136398062522E-2}]
[-0.50000000000001998,{"$f":"Items!B$4+(1-Items!B$4)/(1+EXP(-Items!B$2*($A57-Items!B$3)))","v":0.91528943426926168},{"$f":"Items!C$4+(1-Items!C$4)/(1+EXP(-Items!C$2*($A57-Items!C$3)))","v":0.61798785983343651},{"$f":"Items!D$4+(1-Items!D$4)/(1+EXP(-Items!D$2*($A57-Items!D$3)))","v":0.36014544763748979},{"$f":"Items!E$4+(1-Items!E$4)/(1+EXP(-Items!E$2*($A57-Items!E$3)))","v":0.24585934071909329},{"$f":"Items!F$4+(1-Items!F$4)/(1+EXP(-Items!F$2*($A57-Items!F$3)))","v":5.9524365976500147E-2}]
[-0.40000000000002001,{"$f":"Items!B$4+(1-Items!B$4)/(1+EXP(-Items!B$2*($A58-Items!B$3)))","v":0.92757351463847992},{"$f":"Items!C$4+(1-Items!C$4)/(1+EXP(-Items!C$2*($A58-Items!C$3)))","v":0.63590311389886045},{"$f":"Items!D$4+(1-Items!D$4)/(1+EXP(-Items!D$2*($A58-Items!D$3)))","v":0.39465368463900852},{"$f":"Items!E$4+(1-Items!E$4)/(1+EXP(-Items!E$2*($A58-Items!E$3)))","v":0.25531073627467538},{"$f":"Items!F$4+(1-Items!F$4)/(1+EXP(-Items!F$2*($A58-Items!F$3)))","v":6.6608035575089167E-2}]
[-0.30000000000001997,{"$f":"Items!B$4+(1-Items!B$4)/(1+EXP(-Items!B$2*($A59-Items!B$3)))","v":0.93819653373640932},{"$f":"Items!C$4+(1-Items!C$4)/(1+EXP(-Items!C$2*($A59-Items!C$3)))","v":0.65367432397235992},{"$f":"Items!D$4+(1-Items!D$4)/(1+EXP(-Items!D$2*($A59-Items!D$3)))","v":0.43136882403750099},{"$f":"Items!E$4+(1-Items!E$4)/(1+EXP(-Items!E$2*($A59-Items!E$3)))","v":0.26653815719513546},{"$f":"Items!F$4+(1-Items!F$4)/(1+EXP(-Items!F$2*($A59-Items!F$3)))","v":7.4467945166026409E-2}]
[-0.20000000000002,{"$f":"Items!B$4+(1-Items!B$4)/(1+EXP(-Items!B$2*($A60-Items!B$3)))","v":0.94734988156469546},{"$f":"Items!C$4+(1-Items!C$4)/(1+EXP(-Items!C$2*($A60-Items!C$3)))","v":0.6712323472469286},{"$f":"Items!D$4+(1-Items!D$4)/(1+EXP(-Items!D$2*($A60-Items!D$3)))","v":0.46986360934719362},{"$f":"Items!E$4+(1-Items!E$4)/(1+EXP(-Items!E$2*($A60-Items!E$3)))","v":0.27980039129574524},{"$f":"Items!F$4+(1-Items!F$4)/(1+EXP(-Items!F$2*($A60-Items!F$3)))","v":8.3172696493920548E-2}]
[-0.10000000000002,{"$f":"Items!B$4+(1-Items!B$4)/(1+EXP(-Items!B$2*($A61-Items!B$3)))","v":0.9552122969502117},{"$f":"Items!C$4+(1-Items!C$4)/(1+EXP(-Items!C$2*($A61-Items!C$3)))","v":0.68851138715937421},{"$f":"Items!D$4+(1-Items!D$4)/(1+EXP(-Items!D$2*($A61-Items!D$3)))","v":0.50960899686376993},{"$f":"Items!E$4+(1-Items!E$4)/(1+EXP(-Items!E$2*($A61-Items!E$3)))","v":0.29536233761769071},{"$f":"Items!F$4+(1-Items!F$4)/(1+EXP(-Items!F$2*($A61-Items!F$3)))","v":9.2792953117154964E-2}]
[-2.0428103653102899E-14,{"$f":"Items!B$4+(1-Items!B$4)/(1+EXP(-Items!B$2*($A62-Items!B$3)))","v":0.96194775292900647},{"$f":"Items!C$4+(1-Items!C$4)/(1+EXP(-Items!C$2*($A62-Items!C$3)))","v":0.70544993418887803},{"$f":"Items!D$4+(1-Items!D$4)/(1+EXP(-Items!D$2*($A62-Items!D$3)))","v":0.54999999999999172},{"$f":"Items!E$4+(1-Items!E$4)/(1+EXP(-Items!E$2*($A62-Items!E$3)))","v":0.31348085192038627},{"$f":"Items!F$4+(1-Items!F$4)/(1+EXP(-Items!F$2*($A62-Items!F$3)))","v":0.10340045145824731}]
[9.9999999999980105E-2,{"$f":"Items!B$4+(1-Items!B$4)/(1+EXP(-Items!B$2*($A63-Items!B$3)))","v":0.96770453530154832},{"$f":"Items!C$4+(1-Items!C$4)/(1+EXP(-Items!C$2*($A63-Items!C$3)))","v":0.72199156975419232},{"$f":"Items!D$4+(1-Items!D$4)/(1+EXP(-Items!D$2*($A63-Items!D$3)))","v":0.59039100313621407},{"$f":"Items!E$4+(1-Items!E$4)/(1+EXP(-Items!E$2*($A63-Items!E$3)))","v":0.33438529189285598},{"$f":"Items!F$4+(1-Items!F$4)/(1+EXP(-Items!F$2*($A63-Items!F$3)))","v":0.11506673204554736}]
[0.19999999999998,{"$f":"Items!B$4+(1-Items!B$4)/(1+EXP(-Items!B$2*($A64-Items!B$3)))","v":0.97261518904987343},{"$f":"Items!C$4+(1-Items!C$4)/(1+EXP(-Items!C$2*($A64-Items!C$3)))","v":0.73808561365420533},{"$f":"Items!D$4+(1-Items!D$4)/(1+EXP(-Items!D$2*($A64-Items!D$3)))","v":0.6301363906527907},{"$f":"Items!E$4+(1-Items!E$4)/(1+EXP(-Items!E$2*($A64-Items!E$3)))","v":0.35825288915312953},{"$f":"Items!F$4+(1-Items!F$4)/(1+EXP(-Items!F$2*($A64-Items!F$3)))","v":0.12786156631907866}]
[0.29999999999998,{"$f":"Items!B$4+(1-Items!B$4)/(1+EXP(-Items!B$2*($A65-Items!B$3)))","v":0.97679706185435522},{"$f":"Items!C$4+(1-Items!C$4)/(1+EXP(-Items!C$2*($A65-Items!C$3)))","v":0.75368760344142749},{"$f":"Items!D$4+(1-Items!D$4)/(1+EXP(-Items!D$2*($A65-Items!D$3)))","v":0.668631175962484},{"$f":"Items!E$4+(1-Items!E$4)/(1+EXP(-Items!E$2*($A65-Items!E$3)))","v":0.38518017320078024},{"$f":"Items!F$4+(1-Items!F$4)/(1+EXP(-Items!F$2*($A65-Items!F$3)))","v":0.14185106490048488}]
[0.39999999999997998,{"$f":"Items!B$4+(1-Items!B$4)/(1+EXP(-Items!B$2*($A66-Items!B$3)))","v":0.98035323005231068},{"$f":"Items!C$4+(1-Items!C$4)/(1+EXP(-Items!C$2*($A66-Items!C$3)))","v":0.76875960210000027},{"$f":"Items!D$4+(1-Items!D$4)/(1+EXP(-Items!D$2*($A66-Items!D$3)))","v":0.70534631536097725},{"$f":"Items!E$4+(1-Items!E$4)/(1+EXP(-Items!E$2*($A66-Items!E$3)))","v":0.41515313709598983},{"$f":"Items!F$4+(1-Items!F$4)/(1+EXP(-Items!F$2*($A66-Items!F$3)))","v":0.15709546888544954}]
[0.49999999999998002,{"$f":"Items!B$4+(1-Items!B$4)/(1+EXP(-Items!B$2*($A67-Items!B$3)))","v":0.98337364389211768},{"$f":"Items!C$4+(1-Items!C$4)/(1+EXP(-Items!C$2*($A67-Items!C$3)))","v":0.78327033787944234},{"$f":"Items!D$4+(1-Items!D$4)/(1+EXP(-Items!D$2*($A67-Items!D$3)))","v":0.73985455236249698},{"$f":"Items!E$4+(1-Items!E$4)/(1+EXP(-Items!E$2*($A67-Items!E$3)))","v":0.44802041509790325},{"$f":"Items!F$4+(1-Items!F$4)/(1+EXP(-Items!F$2*($A67-Items!F$3)))","v":0.17364664701900157}]
[0.59999999999997999,{"$f":"Items!B$4+(1-Items!B$4)/(1+EXP(-Items!B$2*($A68-Items!B$3)))","v":0.98593637295675407},{"$f":"Items!C$4+(1-Items!C$4)/(1+EXP(-Items!C$2*($A68-Items!C$3)))","v":0.79719518667012701},{"$f":"Items!D$4+(1-Items!D$4)/(1+EXP(-Items!D$2*($A68-Items!D$3)))","v":0.77184458500388986},{"$f":"Items!E$4+(1-Items!E$4)/(1+EXP(-Items!E$2*($A68-Items!E$3)))","v":0.48347495501935633},{"$f":"Items!F$4+(1-Items!F$4)/(1+EXP(-Items!F$2*($A68-Items!F$3)))","v":0.19154534856146377}]
[0.69999999999997997,{"$f":"Items!B$4+(1-Items!B$4)/(1+EXP(-Items!B$2*($A69-Items!B$3)))","v":0.98810886835561262},{"$f":"Items!C$4+(1-Items!C$4)/(1+EXP(-Items!C$2*($A69-Items!C$3)))","v":0.81051601258148187},{"$f":"Items!D$4+(1-Items!D$4)/(1+EXP(-Items!D$2*($A69-Items!D$3)))","v":0.8011234970018255},{"$f":"Items!E$4+(1-Items!E$4)/(1+EXP(-Items!E$2*($A69-Items!E$3)))","v":0.52104987191003072},{"$f":"Items!F$4+(1-Items!F$4)/(1+EXP(-Items!F$2*($A69-Items!F$3)))","v":0.21081829347774311}]
[0.79999999999997995,{"$f":"Items!B$4+(1-Items!B$4)/(1+EXP(-Items!B$2*($A70-Items!B$3)))","v":0.98994918611652594},{"$f":"Items!C$4+(1-Items!C$4)/(1+EXP(-Items!C$2*($A70-Items!C$3)))","v":0.82322088622384726},{"$f":"Items!D$4+(1-Items!D$4)/(1+EXP(-Items!D$2*($A70-Items!D$3)))","v":0.82760918629467417},{"$f":"Items!E$4+(1-Items!E$4)/(1+EXP(-Items!E$2*($A70-Items!E$3)))","v":0.56013280215000982},{"$f":"Items!F$4+(1-Items!F$4)/(1+EXP(-Items!F$2*($A70-Items!F$3)))","v":0.23147521650097808}]
[0.89999999999998004,{"$f":"Items!B$4+(1-Items!B$4)/(1+EXP(-Items!B$2*($A71-Items!B$3)))","v":0.99150713714835537},{"$f":"Items!C$4+(1-Items!C$4)/(1+EXP(-Items!C$2*($A71-Items!C$3)))","v":0.8353037025592398},{"$f":"Items!D$4+(1-Items!D$4)/(1+EXP(-Items!D$2*($A71-Items!D$3)))","v":0.85131561682844237},{"$f":"Items!E$4+(1-Items!E$4)/(1+EXP(-Items!E$2*($A71-Items!E$3)))","v":0.5999999999999921},{"$f":"Items!F$4+(1-Items!F$4)/(1+EXP(-Items!F$2*($A71-Items!F$3)))","v":0.2535060166623333}]
[0.99999999999998002,{"$f":"Items!B$4+(1-Items!B$4)/(1+EXP(-Items!B$2*($A72-Items!B$3)))","v":0.99282534439092496},{"$f":"Items!C$4+(1-Items!C$4)/(1+EXP(-Items!C$2*($A72-Items!C$3)))","v":0.84676372115082388},{"$f":"Items!D$4+(1-Items!D$4)/(1+EXP(-Items!D$2*($A72-Items!D$3)))","v":0.87233404158955707},{"$f":"Items!E$4+(1-Items!E$4)/(1+EXP(-Items!E$2*($A72-Items!E$3)))","v":0.63986719784997437},{"$f":"Items!F$4+(1-Items!F$4)/(1+EXP(-Items!F$2*($A72-Items!F$3)))","v":0.27687819487560539}]
[1.0999999999999801,{"$f":"Items!B$4+(1-Items!B$4)/(1+EXP(-Items!B$2*($A73-Items!B$3)))","v":0.99394019850841553},{"$f":"Items!C$4+(1-Items!C$4)/(1+EXP(-Items!C$2*($A73-Items!C$3)))","v":0.85760505137100074},{"$f":"Items!D$4+(1-Items!D$4)/(1+EXP(-Items!D$2*($A73-Items!D$3)))","v":0.89081304589743338},{"$f":"Items!E$4+(1-Items!E$4)/(1+EXP(-Items!E$2*($A73-Items!E$3)))","v":0.67895012808995392},{"$f":"Items!F$4+(1-Items!F$4)/(1+EXP(-Items!F$2*($A73-Items!F$3)))","v":0.3015347839974562}]
[1.19999999999998,{"$f":"Items!B$4+(1-Items!B$4)/(1+EXP(-Items!B$2*($A74-Items!B$3)))","v":0.99488271076995838},{"$f":"Items!C$4+(1-Items!C$4)/(1+EXP(-Items!C$2*($A74-Items!C$3)))","v":0.86783610384750642},{"$f":"Items!D$4+(1-Items!D$4)/(1+EXP(-Items!D$2*($A74-Items!D$3)))","v":0.90693959368757249},{"$f":"Items!E$4+(1-Items!E$4)/(1+EXP(-Items!E$2*($A74-Items!E$3)))","v":0.71652504498062908},{"$f":"Items!F$4+(1-Items!F$4)/(1+EXP(-Items!F$2*($A74-Items!F$3)))","v":0.32739298293223423}]
[1.2999999999999801,{"$f":"Items!B$4+(1-Items!B$4)/(1+EXP(-Items!B$2*($A75-Items!B$3)))","v":0.99567926648008787},{"$f":"Items!C$4+(1-Items!C$4)/(1+EXP(-Items!C$2*($A75-Items!C$3)))","v":0.87746902738792931},{"$f":"Items!D$4+(1-Items!D$4)/(1+EXP(-Items!D$2*($A75-Items!D$3)))","v":0.92092247665362625},{"$f":"Items!E$4+(1-Items!E$4)/(1+EXP(-Items!E$2*($A75-Items!E$3)))","v":0.75197958490208316},{"$f":"Items!F$4+(1-Items!F$4)/(1+EXP(-Items!F$2*($A75-Items!F$3)))","v":0.35434369377419905}]
[1.3999999999999799,{"$f":"Items!B$4+(1-Items!B$4)/(1+EXP(-Items!B$2*($A76-Items!B$3)))","v":0.99635228517922503},{"$f":"Items!C$4+(1-Items!C$4)/(1+EXP(-Items!C$2*($A76-Items!C$3)))","v":0.88651914807960797},{"$f":"Items!D$4+(1-Items!D$4)/(1+EXP(-Items!D$2*($A76-Items!D$3)))","v":0.93297884935057251},{"$f":"Items!E$4+(1-Items!E$4)/(1+EXP(-Items!E$2*($A76-Items!E$3)))","v":0.78484686290399774},{"$f":"Items!F$4+(1-Items!F$4)/(1+EXP(-Items!F$2*($A76-Items!F$3)))","v":0.38225212523074531}]
[1.49999999999998,{"$f":"Items!B$4+(1-Items!B$4)/(1+EXP(-Items!B$2*($A77-Items!B$3)))","v":0.99692079537852263},{"$f":"Items!C$4+(1-Items!C$4)/(1+EXP(-Items!C$2*($A77-Items!C$3)))","v":0.89500442444917971},{"$f":"Items!D$4+(1-Items!D$4)/(1+EXP(-Items!D$2*($A77-Items!D$3)))","v":0.94332397954870129},{"$f":"Items!E$4+(1-Items!E$4)/(1+EXP(-Items!E$2*($A77-Items!E$3)))","v":0.81481982679920839},{"$f":"Items!F$4+(1-Items!F$4)/(1+EXP(-Items!F$2*($A77-Items!F$3)))","v":0.41095956594132904}]
[1.5999999999999801,{"$f":"Items!B$4+(1-Items!B$4)/(1+EXP(-Items!B$2*($A78-Items!B$3)))","v":0.99740093223767656},{"$f":"Items!C$4+(1-Items!C$4)/(1+EXP(-Items!C$2*($A78-Items!C$3)))","v":0.90294492968660922},{"$f":"Items!D$4+(1-Items!D$4)/(1+EXP(-Items!D$2*($A78-Items!D$3)))","v":0.95216397724174096},{"$f":"Items!E$4+(1-Items!E$4)/(1+EXP(-Items!E$2*($A78-Items!E$3)))","v":0.84174711084686038},{"$f":"Items!F$4+(1-Items!F$4)/(1+EXP(-Items!F$2*($A78-Items!F$3)))","v":0.44028635073280109}]
[1.69999999999998,{"$f":"Items!B$4+(1-Items!B$4)/(1+EXP(-Items!B$2*($A79-Items!B$3)))","v":0.99780636664329125},{"$f":"Items!C$4+(1-Items!C$4)/(1+EXP(-Items!C$2*($A79-Items!C$3)))","v":0.91036236915440627},{"$f":"Items!D$4+(1-Items!D$4)/(1+EXP(-Items!D$2*($A79-Items!D$3)))","v":0.9596910672551906},{"$f":"Items!E$4+(1-Items!E$4)/(1+EXP(-Items!E$2*($A79-Items!E$3)))","v":0.86561470810713526},{"$f":"Items!F$4+(1-Items!F$4)/(1+EXP(-Items!F$2*($A79-Items!F$3)))","v":0.47003594823542227}]
[1.7999999999999801,{"$f":"Items!B$4+(1-Items!B$4)/(1+EXP(-Items!B$2*($A80-Items!B$3)))","v":0.99814867381879402},{"$f":"Items!C$4+(1-Items!C$4)/(1+EXP(-Items!C$2*($A80-Items!C$3)))","v":0.91727963883339902},{"$f":"Items!D$4+(1-Items!D$4)/(1+EXP(-Items!D$2*($A80-Items!D$3)))","v":0.96608089854225343},{"$f":"Items!E$4+(1-Items!E$4)/(1+EXP(-Items!E$2*($A80-Items!E$3)))","v":0.88651914807960597},{"$f":"Items!F$4+(1-Items!F$4)/(1+EXP(-Items!F$2*($A80-Items!F$3)))","v":0.499999999999994}]
[1.8999999999999799,{"$f":"Items!B$4+(1-Items!B$4)/(1+EXP(-Items!B$2*($A81-Items!B$3)))","v":0.99843764904967103},{"$f":"Items!C$4+(1-Items!C$4)/(1+EXP(-Items!C$2*($A81-Items!C$3)))","v":0.9237204280807112},{"$f":"Items!D$4+(1-Items!D$4)/(1+EXP(-Items!D$2*($A81-Items!D$3)))","v":0.97149139445884813},{"$f":"Items!E$4+(1-Items!E$4)/(1+EXP(-Items!E$2*($A81-Items!E$3)))","v":0.9046376623823027},{"$f":"Items!F$4+(1-Items!F$4)/(1+EXP(-Items!F$2*($A81-Items!F$3)))","v":0.52996405176456574}]
[1.99999999999998,{"$f":"Items!B$4+(1-Items!B$4)/(1+EXP(-Items!B$2*($A82-Items!B$3)))","v":0.99868157744676611},{"$f":"Items!C$4+(1-Items!C$4)/(1+EXP(-Items!C$2*($A82-Items!C$3)))","v":0.92970886813655795},{"$f":"Items!D$4+(1-Items!D$4)/(1+EXP(-Items!D$2*($A82-Items!D$3)))","v":0.97606270578081988},{"$f":"Items!E$4+(1-Items!E$4)/(1+EXP(-Items!E$2*($A82-Items!E$3)))","v":0.92019960870424899},{"$f":"Items!F$4+(1-Items!F$4)/(1+EXP(-Items!F$2*($A82-Items!F$3)))","v":0.55971364926718703}]
[2.0999999999999699,{"$f":"Items!B$4+(1-Items!B$4)/(1+EXP(-Items!B$2*($A83-Items!B$3)))","v":0.99888746396713957},{"$f":"Items!C$4+(1-Items!C$4)/(1+EXP(-Items!C$2*($A83-Items!C$3)))","v":0.93526922622762632},{"$f":"Items!D$4+(1-Items!D$4)/(1+EXP(-Items!D$2*($A83-Items!D$3)))","v":0.97991790517086996},{"$f":"Items!E$4+(1-Items!E$4)/(1+EXP(-Items!E$2*($A83-Items!E$3)))","v":0.93346184280485844},{"$f":"Items!F$4+(1-Items!F$4)/(1+EXP(-Items!F$2*($A83-Items!F$3)))","v":0.58904043405865636}]
[2.19999999999997,{"$f":"Items!B$4+(1-Items!B$4)/(1+EXP(-Items!B$2*($A84-Items!B$3)))","v":0.999061229212862},{"$f":"Items!C$4+(1-Items!C$4)/(1+EXP(-Items!C$2*($A84-Items!C$3)))","v":0.94042564386717609},{"$f":"Items!D$4+(1-Items!D$4)/(1+EXP(-Items!D$2*($A84-Items!D$3)))","v":0.98316414104107996},{"$f":"Items!E$4+(1-Items!E$4)/(1+EXP(-Items!E$2*($A84-Items!E$3)))","v":0.94468926372531947},{"$f":"Items!F$4+(1-Items!F$4)/(1+EXP(-Items!F$2*($A84-Items!F$3)))","v":0.61774787476924042}]
[2.2999999999999701,{"$f":"Items!B$4+(1-Items!B$4)/(1+EXP(-Items!B$2*($A85-Items!B$3)))","v":0.99920787586160476},{"$f":"Items!C$4+(1-Items!C$4)/(1+EXP(-Items!C$2*($A85-Items!C$3)))","v":0.94520191702053791},{"$f":"Items!D$4+(1-Items!D$4)/(1+EXP(-Items!D$2*($A85-Items!D$3)))","v":0.98589404074055564},{"$f":"Items!E$4+(1-Items!E$4)/(1+EXP(-Items!E$2*($A85-Items!E$3)))","v":0.95414065928090253},{"$f":"Items!F$4+(1-Items!F$4)/(1+EXP(-Items!F$2*($A85-Items!F$3)))","v":0.64565630622578729}]
[2.3999999999999702,{"$f":"Items!B$4+(1-Items!B$4)/(1+EXP(-Items!B$2*($A86-Items!B$3)))","v":0.99933162996520453},{"$f":"Items!C$4+(1-Items!C$4)/(1+EXP(-Items!C$2*($A86-Items!C$3)))","v":0.94962131515440174},{"$f":"Items!D$4+(1-Items!D$4)/(1+EXP(-Items!D$2*($A86-Items!D$3)))","v":0.98818721349660688},{"$f":"Items!E$4+(1-Items!E$4)/(1+EXP(-Items!E$2*($A86-Items!E$3)))","v":0.96205930145794438},{"$f":"Items!F$4+(1-Items!F$4)/(1+EXP(-Items!F$2*($A86-Items!F$3)))","v":0.67260701706775261}]
[2.4999999999999698,{"$f":"Items!B$4+(1-Items!B$4)/(1+EXP(-Items!B$2*($A87-Items!B$3)))","v":0.99943606079130776},{"$f":"Items!C$4+(1-Items!C$4)/(1+EXP(-Items!C$2*($A87-Items!C$3)))","v":0.95370643577891001},{"$f":"Items!D$4+(1-Items!D$4)/(1+EXP(-Items!D$2*($A87-Items!D$3)))","v":0.99011175163246556},{"$f":"Items!E$4+(1-Items!E$4)/(1+EXP(-Items!E$2*($A87-Items!E$3)))","v":0.9686674217625868},{"$f":"Items!F$4+(1-Items!F$4)/(1+EXP(-Items!F$2*($A87-Items!F$3)))","v":0.69846521600253109}]
[2.5999999999999699,{"$f":"Items!B$4+(1-Items!B$4)/(1+EXP(-Items!B$2*($A88-Items!B$3)))","v":0.99952418238116159},{"$f":"Items!C$4+(1-Items!C$4)/(1+EXP(-Items!C$2*($A88-Items!C$3)))","v":0.95747909088154803},{"$f":"Items!D$4+(1-Items!D$4)/(1+EXP(-Items!D$2*($A88-Items!D$3)))","v":0.99172566516944016},{"$f":"Items!E$4+(1-Items!E$4)/(1+EXP(-Items!E$2*($A88-Items!E$3)))","v":0.97416362824123803},{"$f":"Items!F$4+(1-Items!F$4)/(1+EXP(-Items!F$2*($A88-Items!F$3)))","v":0.72312180512438251}]
[2.69999999999997,{"$f":"Items!B$4+(1-Items!B$4)/(1+EXP(-Items!B$2*($A89-Items!B$3)))","v":0.99959853955241718},{"$f":"Items!C$4+(1-Items!C$4)/(1+EXP(-Items!C$2*($A89-Items!C$3)))","v":0.96096022160095917},{"$f":"Items!D$4+(1-Items!D$4)/(1+EXP(-Items!D$2*($A89-Items!D$3)))","v":0.99307821170664212},{"$f":"Items!E$4+(1-Items!E$4)/(1+EXP(-Items!E$2*($A89-Items!E$3)))","v":0.97872240513850617},{"$f":"Items!F$4+(1-Items!F$4)/(1+EXP(-Items!F$2*($A89-Items!F$3)))","v":0.74649398333765538}]
[2.7999999999999701,{"$f":"Items!B$4+(1-Items!B$4)/(1+EXP(-Items!B$2*($A90-Items!B$3)))","v":0.99966128068628479},{"$f":"Items!C$4+(1-Items!C$4)/(1+EXP(-Items!C$2*($A90-Items!C$3)))","v":0.96416983756016972},{"$f":"Items!D$4+(1-Items!D$4)/(1+EXP(-Items!D$2*($A90-Items!D$3)))","v":0.99421110237977295},{"$f":"Items!E$4+(1-Items!E$4)/(1+EXP(-Items!E$2*($A90-Items!E$3)))","v":0.98249498325109452},{"$f":"Items!F$4+(1-Items!F$4)/(1+EXP(-Items!F$2*($A90-Items!F$3)))","v":0.76852478349901132}]
[2.8999999999999702,{"$f":"Items!B$4+(1-Items!B$4)/(1+EXP(-Items!B$2*($A91-Items!B$3)))","v":0.99971421929915805},{"$f":"Items!C$4+(1-Items!C$4)/(1+EXP(-Items!C$2*($A91-Items!C$3)))","v":0.96712697743962717},{"$f":"Items!D$4+(1-Items!D$4)/(1+EXP(-Items!D$2*($A91-Items!D$3)))","v":0.99515957754353612},{"$f":"Items!E$4+(1-Items!E$4)/(1+EXP(-Items!E$2*($A91-Items!E$3)))","v":0.98561103203032596},{"$f":"Items!F$4+(1-Items!F$4)/(1+EXP(-Items!F$2*($A91-Items!F$3)))","v":0.78918170652224684}]
[2.9999999999999698,{"$f":"Items!B$4+(1-Items!B$4)/(1+EXP(-Items!B$2*($A92-Items!B$3)))","v":0.99975888610505259},{"$f":"Items!C$4+(1-Items!C$4)/(1+EXP(-Items!C$2*($A92-Items!C$3)))","v":0.96984968759311463},{"$f":"Items!D$4+(1-Items!D$4)/(1+EXP(-Items!D$2*($A92-Items!D$3)))","v":0.99595335415515274},{"$f":"Items!E$4+(1-Items!E$4)/(1+EXP(-Items!E$2*($A92-Items!E$3)))","v":0.98818077464538101},{"$f":"Items!F$4+(1-Items!F$4)/(1+EXP(-Items!F$2*($A92-Items!F$3)))","v":0.80845465143852691}]
[3.0999999999999699,{"$f":"Items!B$4+(1-Items!B$4)/(1+EXP(-Items!B$2*($A93-Items!B$3)))","v":0.9997965730219448},{"$f":"Items!C$4+(1-Items!C$4)/(1+EXP(-Items!C$2*($A93-Items!C$3)))","v":0.97235501577097816},{"$f":"Items!D$4+(1-Items!D$4)/(1+EXP(-Items!D$2*($A93-Items!D$3)))","v":0.99661745191734918},{"$f":"Items!E$4+(1-Items!E$4)/(1+EXP(-Items!E$2*($A93-Items!E$3)))","v":0.99029725201258012},{"$f":"Items!F$4+(1-Items!F$4)/(1+EXP(-Items!F$2*($A93-Items!F$3)))","v":0.82635335298098977}]
[3.19999999999997,{"$f":"Items!B$4+(1-Items!B$4)/(1+EXP(-Items!B$2*($A94-Items!B$3)))","v":0.99982837035756622},{"$f":"Items!C$4+(1-Items!C$4)/(1+EXP(-Items!C$2*($A94-Items!C$3)))","v":0.97465901729675442},{"$f":"Items!D$4+(1-Items!D$4)/(1+EXP(-Items!D$2*($A94-Items!D$3)))","v":0.99717290804365333},{"$f":"Items!E$4+(1-Items!E$4)/(1+EXP(-Items!E$2*($A94-Items!E$3)))","v":0.99203855850647615},{"$f":"Items!F$4+(1-Items!F$4)/(1+EXP(-Items!F$2*($A94-Items!F$3)))","v":0.84290453111454244}]
[3.2999999999999701,{"$f":"Items!B$4+(1-Items!B$4)/(1+EXP(-Items!B$2*($A95-Items!B$3)))","v":0.99985519822390823},{"$f":"Items!C$4+(1-Items!C$4)/(1+EXP(-Items!C$2*($A95-Items!C$3)))","v":0.97677677133092677},{"$f":"Items!D$4+(1-Items!D$4)/(1+EXP(-Items!D$2*($A95-Items!D$3)))","v":0.99763739176900568},{"$f":"Items!E$4+(1-Items!E$4)/(1+EXP(-Items!E$2*($A95-Items!E$3)))","v":0.99346994307747183},{"$f":"Items!F$4+(1-Items!F$4)/(1+EXP(-Items!F$2*($A95-Items!F$3)))","v":0.85814893509950785}]
[3.3999999999999702,{"$f":"Items!B$4+(1-Items!B$4)/(1+EXP(-Items!B$2*($A96-Items!B$3)))","v":0.9998778330705631},{"$f":"Items!C$4+(1-Items!C$4)/(1+EXP(-Items!C$2*($A96-Items!C$3)))","v":0.97872240513850683},{"$f":"Items!D$4+(1-Items!D$4)/(1+EXP(-Items!D$2*($A96-Items!D$3)))","v":0.99802572997896211},{"$f":"Items!E$4+(1-Items!E$4)/(1+EXP(-Items!E$2*($A96-Items!E$3)))","v":0.99464571926057199},{"$f":"Items!F$4+(1-Items!F$4)/(1+EXP(-Items!F$2*($A96-Items!F$3)))","v":0.8721384336809147}]
[3.4999999999999698,{"$f":"Items!B$4+(1-Items!B$4)/(1+EXP(-Items!B$2*($A97-Items!B$3)))","v":0.9998969300913515},{"$f":"Items!C$4+(1-Items!C$4)/(1+EXP(-Items!C$2*($A97-Items!C$3)))","v":0.98050912454777728},{"$f":"Items!D$4+(1-Items!D$4)/(1+EXP(-Items!D$2*($A97-Items!D$3)))","v":0.9983503549517565},{"$f":"Items!E$4+(1-Items!E$4)/(1+EXP(-Items!E$2*($A97-Items!E$3)))","v":0.99561096088043954},{"$f":"Items!F$4+(1-Items!F$4)/(1+EXP(-Items!F$2*($A97-Items!F$3)))","v":0.88493326795444649}]
[3.5999999999999699,{"$f":"Items!B$4+(1-Items!B$4)/(1+EXP(-Items!B$2*($A98-Items!B$3)))","v":0.99991304214323196},{"$f":"Items!C$4+(1-Items!C$4)/(1+EXP(-Items!C$2*($A98-Items!C$3)))","v":0.98214924904077394},{"$f":"Items!D$4+(1-Items!D$4)/(1+EXP(-Items!D$2*($A98-Items!D$3)))","v":0.99862168446369692},{"$f":"Items!E$4+(1-Items!E$4)/(1+EXP(-Items!E$2*($A98-Items!E$3)))","v":0.99640298147124695},{"$f":"Items!F$4+(1-Items!F$4)/(1+EXP(-Items!F$2*($A98-Items!F$3)))","v":0.89659954854174695}]
[3.69999999999997,{"$f":"Items!B$4+(1-Items!B$4)/(1+EXP(-Items!B$2*($A99-Items!B$3)))","v":0.99992663571836227},{"$f":"Items!C$4+(1-Items!C$4)/(1+EXP(-Items!C$2*($A99-Items!C$3)))","v":0.98365425014875707},{"$f":"Items!D$4+(1-Items!D$4)/(1+EXP(-Items!D$2*($A99-Items!D$3)))","v":0.99884844357898317},{"$f":"Items!E$4+(1-Items!E$4)/(1+EXP(-Items!E$2*($A99-Items!E$3)))","v":0.99705260808045115},{"$f":"Items!F$4+(1-Items!F$4)/(1+EXP(-Items!F$2*($A99-Items!F$3)))","v":0.90720704688283993}]
[3.7999999999999701,{"$f":"Items!B$4+(1-Items!B$4)/(1+EXP(-Items!B$2*($A100-Items!B$3)))","v":0.99993810442688125},{"$f":"Items!C$4+(1-Items!C$4)/(1+EXP(-Items!C$2*($A100-Items!C$3)))","v":0.98503479203651589},{"$f":"Items!D$4+(1-Items!D$4)/(1+EXP(-Items!D$2*($A100-Items!D$3)))","v":0.99903793644780214},{"$f":"Items!E$4+(1-Items!E$4)/(1+EXP(-Items!E$2*($A100-Items!E$3)))","v":0.9975852669402332},{"$f":"Items!F$4+(1-Items!F$4)/(1+EXP(-Items!F$2*($A100-Items!F$3)))","v":0.91682730350607489}]
[3.8999999999999702,{"$f":"Items!B$4+(1-Items!B$4)/(1+EXP(-Items!B$2*($A101-Items!B$3)))","v":0.99994778037735566},{"$f":"Items!C$4+(1-Items!C$4)/(1+EXP(-Items!C$2*($A101-Items!C$3)))","v":0.98630077334741761},{"$f":"Items!D$4+(1-Items!D$4)/(1+EXP(-Items!D$2*($A101-Items!D$3)))","v":0.99919627544593159},{"$f":"Items!E$4+(1-Items!E$4)/(1+EXP(-Items!E$2*($A101-Items!E$3)))","v":0.99802190147469205},{"$f":"Items!F$4+(1-Items!F$4)/(1+EXP(-Items!F$2*($A101-Items!F$3)))","v":0.92553205483396939}]
[3.9999999999999698,{"$f":"Items!B$4+(1-Items!B$4)/(1+EXP(-Items!B$2*($A102-Items!B$3)))","v":0.99995594378197439},{"$f":"Items!C$4+(1-Items!C$4)/(1+EXP(-Items!C$2*($A102-Items!C$3)))","v":0.98746136954716079},{"$f":"Items!D$4+(1-Items!D$4)/(1+EXP(-Items!D$2*($A102-Items!D$3)))","v":0.999328574049547},{"$f":"Items!E$4+(1-Items!E$4)/(1+EXP(-Items!E$2*($A102-Items!E$3)))","v":0.99837974368876004},{"$f":"Items!F$4+(1-Items!F$4)/(1+EXP(-Items!F$2*($A102-Items!F$3)))","v":0.93339196442490713}]
[4.0999999999999703,{"$f":"Items!B$4+(1-Items!B$4)/(1+EXP(-Items!B$2*($A103-Items!B$3)))","v":0.99996283106289707},{"$f":"Items!C$4+(1-Items!C$4)/(1+EXP(-Items!C$2*($A103-Items!C$3)))","v":0.98852507514920918},{"$f":"Items!D$4+(1-Items!D$4)/(1+EXP(-Items!D$2*($A103-Items!D$3)))","v":0.99943910897474075},{"$f":"Items!E$4+(1-Items!E$4)/(1+EXP(-Items!E$2*($A103-Items!E$3)))","v":0.99867295913586052},{"$f":"Items!F$4+(1-Items!F$4)/(1+EXP(-Items!F$2*($A103-Items!F$3)))","v":0.94047563402349643}]
[4.19999999999997,{"$f":"Items!B$4+(1-Items!B$4)/(1+EXP(-Items!B$2*($A104-Items!B$3)))","v":0.9999686416932787},{"$f":"Items!C$4+(1-Items!C$4)/(1+EXP(-Items!C$2*($A104-Items!C$3)))","v":0.98949974533031759},{"$f":"Items!D$4+(1-Items!D$4)/(1+EXP(-Items!D$2*($A104-Items!D$3)))","v":0.99953145633330021},{"$f":"Items!E$4+(1-Items!E$4)/(1+EXP(-Items!E$2*($A104-Items!E$3)))","v":0.99891318403965679},{"$f":"Items!F$4+(1-Items!F$4)/(1+EXP(-Items!F$2*($A104-Items!F$3)))","v":0.94684886360193443}]
[4.2999999999999696,{"$f":"Items!B$4+(1-Items!B$4)/(1+EXP(-Items!B$2*($A105-Items!B$3)))","v":0.99997354397021299},{"$f":"Items!C$4+(1-Items!C$4)/(1+EXP(-Items!C$2*($A105-Items!C$3)))","v":0.99039263655205789},{"$f":"Items!D$4+(1-Items!D$4)/(1+EXP(-Items!D$2*($A105-Items!D$3)))","v":0.99960860586689115},{"$f":"Items!E$4+(1-Items!E$4)/(1+EXP(-Items!E$2*($A105-Items!E$3)))","v":0.9991099711737117},{"$f":"Items!F$4+(1-Items!F$4)/(1+EXP(-Items!F$2*($A105-Items!F$3)))","v":0.95257412682243148}]
[4.3999999999999702,{"$f":"Items!B$4+(1-Items!B$4)/(1+EXP(-Items!B$2*($A106-Items!B$3)))","v":0.9999776798861657},{"$f":"Items!C$4+(1-Items!C$4)/(1+EXP(-Items!C$2*($A106-Items!C$3)))","v":0.99121044589552509},{"$f":"Items!D$4+(1-Items!D$4)/(1+EXP(-Items!D$2*($A106-Items!D$3)))","v":0.99967305671810369},{"$f":"Items!E$4+(1-Items!E$4)/(1+EXP(-Items!E$2*($A106-Items!E$3)))","v":0.99927115904447961},{"$f":"Items!F$4+(1-Items!F$4)/(1+EXP(-Items!F$2*($A106-Items!F$3)))","v":0.9577102281579648}]
[4.4999999999999698,{"$f":"Items!B$4+(1-Items!B$4)/(1+EXP(-Items!B$2*($A107-Items!B$3)))","v":0.99998116923954716},{"$f":"Items!C$4+(1-Items!C$4)/(1+EXP(-Items!C$2*($A107-Items!C$3)))","v":0.99195934889322079},{"$f":"Items!D$4+(1-Items!D$4)/(1+EXP(-Items!D$2*($A107-Items!D$3)))","v":0.99972689767297407},{"$f":"Items!E$4+(1-Items!E$4)/(1+EXP(-Items!E$2*($A107-Items!E$3)))","v":0.99940317693293057},{"$f":"Items!F$4+(1-Items!F$4)/(1+EXP(-Items!F$2*($A107-Items!F$3)))","v":0.96231210949139268}]
[4.5999999999999703,{"$f":"Items!B$4+(1-Items!B$4)/(1+EXP(-Items!B$2*($A108-Items!B$3)))","v":0.99998411310316671},{"$f":"Items!C$4+(1-Items!C$4)/(1+EXP(-Items!C$2*($A108-Items!C$3)))","v":0.99264503570616935},{"$f":"Items!D$4+(1-Items!D$4)/(1+EXP(-Items!D$2*($A108-Items!D$3)))","v":0.99977187435830517},{"$f":"Items!E$4+(1-Items!E$4)/(1+EXP(-Items!E$2*($A108-Items!E$3)))","v":0.99951129651245263},{"$f":"Items!F$4+(1-Items!F$4)/(1+EXP(-Items!F$2*($A108-Items!F$3)))","v":0.96643077671851629}]
[4.69999999999997,{"$f":"Items!B$4+(1-Items!B$4)/(1+EXP(-Items!B$2*($A109-Items!B$3)))","v":0.99998659675080737},{"$f":"Items!C$4+(1-Items!C$4)/(1+EXP(-Items!C$2*($A109-Items!C$3)))","v":0.99327274554722944},{"$f":"Items!D$4+(1-Items!D$4)/(1+EXP(-Items!D$2*($A109-Items!D$3)))","v":0.99980944549051687},{"$f":"Items!E$4+(1-Items!E$4)/(1+EXP(-Items!E$2*($A109-Items!E$3)))","v":0.99959983911433636},{"$f":"Items!F$4+(1-Items!F$4)/(1+EXP(-Items!F$2*($A109-Items!F$3)))","v":0.97011332019636276}]
[4.7999999999999696,{"$f":"Items!B$4+(1-Items!B$4)/(1+EXP(-Items!B$2*($A110-Items!B$3)))","v":0.99998869212653374},{"$f":"Items!C$4+(1-Items!C$4)/(1+EXP(-Items!C$2*($A110-Items!C$3)))","v":0.99384729929479332},{"$f":"Items!D$4+(1-Items!D$4)/(1+EXP(-Items!D$2*($A110-Items!D$3)))","v":0.9998408299430801},{"$f":"Items!E$4+(1-Items!E$4)/(1+EXP(-Items!E$2*($A110-Items!E$3)))","v":0.99967234626801127},{"$f":"Items!F$4+(1-Items!F$4)/(1+EXP(-Items!F$2*($A110-Items!F$3)))","v":0.97340300642313327}]
[4.8999999999999604,{"$f":"Items!B$4+(1-Items!B$4)/(1+EXP(-Items!B$2*($A111-Items!B$3)))","v":0.99999045992814084},{"$f":"Items!C$4+(1-Items!C$4)/(1+EXP(-Items!C$2*($A111-Items!C$3)))","v":0.99437313027600371},{"$f":"Items!D$4+(1-Items!D$4)/(1+EXP(-Items!D$2*($A111-Items!D$3)))","v":0.99986704611950894},{"$f":"Items!E$4+(1-Items!E$4)/(1+EXP(-Items!E$2*($A111-Items!E$3)))","v":0.99973171989562681},{"$f":"Items!F$4+(1-Items!F$4)/(1+EXP(-Items!F$2*($A111-Items!F$3)))","v":0.9763394218445377}]
[4.99999999999996,{"$f":"Items!B$4+(1-Items!B$4)/(1+EXP(-Items!B$2*($A112-Items!B$3)))","v":0.99999195136502039},{"$f":"Items!C$4+(1-Items!C$4)/(1+EXP(-Items!C$2*($A112-Items!C$3)))","v":0.99485431322646489},{"$f":"Items!D$4+(1-Items!D$4)/(1+EXP(-Items!D$2*($A112-Items!D$3)))","v":0.99988894488161228},{"$f":"Items!E$4+(1-Items!E$4)/(1+EXP(-Items!E$2*($A112-Items!E$3)))","v":0.99978033747511885},{"$f":"Items!F$4+(1-Items!F$4)/(1+EXP(-Items!F$2*($A112-Items!F$3)))","v":0.97895865297953066}]
[5.0999999999999597,{"$f":"Items!B$4+(1-Items!B$4)/(1+EXP(-Items!B$2*($A113-Items!B$3)))","v":0.99999320964130201},{"$f":"Items!C$4+(1-Items!C$4)/(1+EXP(-Items!C$2*($A113-Items!C$3)))","v":0.99529459145526267},{"$f":"Items!D$4+(1-Items!D$4)/(1+EXP(-Items!D$2*($A113-Items!D$3)))","v":0.99990723708221629},{"$f":"Items!E$4+(1-Items!E$4)/(1+EXP(-Items!E$2*($A113-Items!E$3)))","v":0.99982014658381346},{"$f":"Items!F$4+(1-Items!F$4)/(1+EXP(-Items!F$2*($A113-Items!F$3)))","v":0.98129349004564437}]
[5.1999999999999602,{"$f":"Items!B$4+(1-Items!B$4)/(1+EXP(-Items!B$2*($A114-Items!B$3)))","v":0.99999427120719298},{"$f":"Items!C$4+(1-Items!C$4)/(1+EXP(-Items!C$2*($A114-Items!C$3)))","v":0.99569740226092107},{"$f":"Items!D$4+(1-Items!D$4)/(1+EXP(-Items!D$2*($A114-Items!D$3)))","v":0.9999225165824851},{"$f":"Items!E$4+(1-Items!E$4)/(1+EXP(-Items!E$2*($A114-Items!E$3)))","v":0.99985274247602929},{"$f":"Items!F$4+(1-Items!F$4)/(1+EXP(-Items!F$2*($A114-Items!F$3)))","v":0.98337364389211745}]
[5.2999999999999599,{"$f":"Items!B$4+(1-Items!B$4)/(1+EXP(-Items!B$2*($A115-Items!B$3)))","v":0.99999516681473821},{"$f":"Items!C$4+(1-Items!C$4)/(1+EXP(-Items!C$2*($A115-Items!C$3)))","v":0.99606590065651157},{"$f":"Items!D$4+(1-Items!D$4)/(1+EXP(-Items!D$2*($A115-Items!D$3)))","v":0.99993527949160343},{"$f":"Items!E$4+(1-Items!E$4)/(1+EXP(-Items!E$2*($A115-Items!E$3)))","v":0.99987943171355242},{"$f":"Items!F$4+(1-Items!F$4)/(1+EXP(-Items!F$2*($A115-Items!F$3)))","v":0.98522596830672626}]
[5.3999999999999604,{"$f":"Items!B$4+(1-Items!B$4)/(1+EXP(-Items!B$2*($A116-Items!B$3)))","v":0.99999592240856161},{"$f":"Items!C$4+(1-Items!C$4)/(1+EXP(-Items!C$2*($A116-Items!C$3)))","v":0.99640298147124695},{"$f":"Items!D$4+(1-Items!D$4)/(1+EXP(-Items!D$2*($A116-Items!D$3)))","v":0.99994594024687722},{"$f":"Items!E$4+(1-Items!E$4)/(1+EXP(-Items!E$2*($A116-Items!E$3)))","v":0.99990128433921099},{"$f":"Items!F$4+(1-Items!F$4)/(1+EXP(-Items!F$2*($A116-Items!F$3)))","v":0.98687468166289649}]
[5.49999999999996,{"$f":"Items!B$4+(1-Items!B$4)/(1+EXP(-Items!B$2*($A117-Items!B$3)))","v":0.99999655987737412},{"$f":"Items!C$4+(1-Items!C$4)/(1+EXP(-Items!C$2*($A117-Items!C$3)))","v":0.99671129990213547},{"$f":"Items!D$4+(1-Items!D$4)/(1+EXP(-Items!D$2*($A117-Items!D$3)))","v":0.99995484505178456},{"$f":"Items!E$4+(1-Items!E$4)/(1+EXP(-Items!E$2*($A117-Items!E$3)))","v":0.99991917664487384},{"$f":"Items!F$4+(1-Items!F$4)/(1+EXP(-Items!F$2*($A117-Items!F$3)))","v":0.98834158344516632}]
[5.5999999999999597,{"$f":"Items!B$4+(1-Items!B$4)/(1+EXP(-Items!B$2*($A118-Items!B$3)))","v":0.99999709768801481},{"$f":"Items!C$4+(1-Items!C$4)/(1+EXP(-Items!C$2*($A118-Items!C$3)))","v":0.9969932905931993},{"$f":"Items!D$4+(1-Items!D$4)/(1+EXP(-Items!D$2*($A118-Items!D$3)))","v":0.99996228310513335},{"$f":"Items!E$4+(1-Items!E$4)/(1+EXP(-Items!E$2*($A118-Items!E$3)))","v":0.99993382622171878},{"$f":"Items!F$4+(1-Items!F$4)/(1+EXP(-Items!F$2*($A118-Items!F$3)))","v":0.98964626246890786}]
[5.6999999999999602,{"$f":"Items!B$4+(1-Items!B$4)/(1+EXP(-Items!B$2*($A119-Items!B$3)))","v":0.99999755142038016},{"$f":"Items!C$4+(1-Items!C$4)/(1+EXP(-Items!C$2*($A119-Items!C$3)))","v":0.99725118532179691},{"$f":"Items!D$4+(1-Items!D$4)/(1+EXP(-Items!D$2*($A119-Items!D$3)))","v":0.99996849598376503},{"$f":"Items!E$4+(1-Items!E$4)/(1+EXP(-Items!E$2*($A119-Items!E$3)))","v":0.99994582068030424},{"$f":"Items!F$4+(1-Items!F$4)/(1+EXP(-Items!F$2*($A119-Items!F$3)))","v":0.99080629463271153}]
[5.7999999999999599,{"$f":"Items!B$4+(1-Items!B$4)/(1+EXP(-Items!B$2*($A120-Items!B$3)))","v":0.99999793421873351},{"$f":"Items!C$4+(1-Items!C$4)/(1+EXP(-Items!C$2*($A120-Items!C$3)))","v":0.99748702937213629},{"$f":"Items!D$4+(1-Items!D$4)/(1+EXP(-Items!D$2*($A120-Items!D$3)))","v":0.99997368548196219},{"$f":"Items!E$4+(1-Items!E$4)/(1+EXP(-Items!E$2*($A120-Items!E$3)))","v":0.99995564118022173},{"$f":"Items!F$4+(1-Items!F$4)/(1+EXP(-Items!F$2*($A120-Items!F$3)))","v":0.99183742884683967}]
[5.8999999999999604,{"$f":"Items!B$4+(1-Items!B$4)/(1+EXP(-Items!B$2*($A121-Items!B$3)))","v":0.99999825717246382},{"$f":"Items!C$4+(1-Items!C$4)/(1+EXP(-Items!C$2*($A121-Items!C$3)))","v":0.99770269667543965},{"$f":"Items!D$4+(1-Items!D$4)/(1+EXP(-Items!D$2*($A121-Items!D$3)))","v":0.99997802016109116},{"$f":"Items!E$4+(1-Items!E$4)/(1+EXP(-Items!E$2*($A121-Items!E$3)))","v":0.99996368170503813},{"$f":"Items!F$4+(1-Items!F$4)/(1+EXP(-Items!F$2*($A121-Items!F$3)))","v":0.9927537604041683}]
[5.99999999999996,{"$f":"Items!B$4+(1-Items!B$4)/(1+EXP(-Items!B$2*($A122-Items!B$3)))","v":0.99999852963732561},{"$f":"Items!C$4+(1-Items!C$4)/(1+EXP(-Items!C$2*($A122-Items!C$3)))","v":0.99789990379467164},{"$f":"Items!D$4+(1-Items!D$4)/(1+EXP(-Items!D$2*($A122-Items!D$3)))","v":0.99998164082144814},{"$f":"Items!E$4+(1-Items!E$4)/(1+EXP(-Items!E$2*($A122-Items!E$3)))","v":0.9999702648503177},{"$f":"Items!F$4+(1-Items!F$4)/(1+EXP(-Items!F$2*($A122-Items!F$3)))","v":0.993567891533081}]

{"sheet":"Scored","index":2,"n_rows":122,"n_cols":10,"rows_kept":122,"cut":false,"hidden":false,"merged":[]}
["Theta","V","W","X","Y","Z","Product"]
[-6,{"$f":"IF(Items!B$5, IF(Items!B$6, Curves!B2, 1-Curves!B2), 1)","v":0.999061229212862},{"$f":"IF(Items!C$5, IF(Items!C$6, Curves!C2, 1-Curves!C2), 1)","v":0.79384729929479336},{"$f":"IF(Items!D$5, IF(Items!D$6, Curves!D2, 1-Curves!D2), 1)","v":0.10001835917855194},{"$f":"IF(Items!E$5, IF(Items!E$6, Curves!E2, 1-Curves!E2), 1)","v":0.79999918749564836},{"$f":"IF(Items!F$5, IF(Items!F$6, Curves!F2, 1-Curves!F2), 1)","v":8.609268612756602E-5},{"$f":"PRODUCT(B2:F2)","v":5.4634202352919882E-6}]
[-5.9,{"$f":"IF(Items!B$5, IF(Items!B$6, Curves!B3, 1-Curves!B3), 1)","v":0.99888746396713968},{"$f":"IF(Items!C$5, IF(Items!C$6, Curves!C3, 1-Curves!C3), 1)","v":0.7932727455472296},{"$f":"IF(Items!D$5, IF(Items!D$6, Curves!D3, 1-Curves!D3), 1)","v":0.10002197983890894},{"$f":"IF(Items!E$5, IF(Items!E$6, Curves!E3, 1-Curves!E3), 1)","v":0.79999900760516707},{"$f":"IF(Items!F$5, IF(Items!F$6, Curves!F3, 1-Curves!F3), 1)","v":9.7068167079599626E-5},{"$f":"PRODUCT(B3:F3)","v":6.1546139979751833E-6},null,"Max",{"$f":"MAX(G2:G102)","v":5.2558655166001496E-4}]
[-5.8,{"$f":"IF(Items!B$5, IF(Items!B$6, Curves!B4, 1-Curves!B4), 1)","v":0.998681577446766},{"$f":"IF(Items!C$5, IF(Items!C$6, Curves!C4, 1-Curves!C4), 1)","v":0.79264503570616951},{"$f":"IF(Items!D$5, IF(Items!D$6, Curves!D4, 1-Curves!D4), 1)","v":0.10002631451803783},{"$f":"IF(Items!E$5, IF(Items!E$6, Curves!E4, 1-Curves!E4), 1)","v":0.79999878788654677},{"$f":"IF(Items!F$5, IF(Items!F$6, Curves!F4, 1-Curves!F4), 1)","v":1.0944269832050534E-4},6.9326004514342115E-6,null,"Theta Score",{"$f":"_xlfn.XLOOKUP(J3,G2:G102,A2:A102)","v":-0.60000000000001996}]
[-5.7,{"$f":"IF(Items!B$5, IF(Items!B$6, Curves!B5, 1-Curves!B5), 1)","v":0.99843764904967103},{"$f":"IF(Items!C$5, IF(Items!C$6, Curves!C5, 1-Curves!C5), 1)","v":0.79195934889322106},{"$f":"IF(Items!D$5, IF(Items!D$6, Curves!D5, 1-Curves!D5), 1)","v":0.1000315040162351},{"$f":"IF(Items!E$5, IF(Items!E$6, Curves!E5, 1-Curves!E5), 1)","v":0.79999851952178169},{"$f":"IF(Items!F$5, IF(Items!F$6, Curves!F5, 1-Curves!F5), 1)","v":1.2339457598623172E-4},7.8081094218472176E-6,null,"Stderr",{"$f":"StandardErrorDp(G2:G102, 0.9)*0.1","v":2.2732944590047643}]
[-5.6,{"$f":"IF(Items!B$5, IF(Items!B$6, Curves!B6, 1-Curves!B6), 1)","v":0.99814867381879391},{"$f":"IF(Items!C$5, IF(Items!C$6, Curves!C6, 1-Curves!C6), 1)","v":0.79121044589552547},{"$f":"IF(Items!D$5, IF(Items!D$6, Curves!D6, 1-Curves!D6), 1)","v":0.10003771689486662},{"$f":"IF(Items!E$5, IF(Items!E$6, Curves!E6, 1-Curves!E6), 1)","v":0.79999819174056164},{"$f":"IF(Items!F$5, IF(Items!F$6, Curves!F6, 1-Curves!F6), 1)","v":1.3912480715655816E-4},8.7931523674650402E-6,null,"Interval Low",{"$f":"J4-J5","v":-2.8732944590047844}]
[-5.5,{"$f":"IF(Items!B$5, IF(Items!B$6, Curves!B7, 1-Curves!B7), 1)","v":0.99780636664329125},{"$f":"IF(Items!C$5, IF(Items!C$6, Curves!C7, 1-Curves!C7), 1)","v":0.79039263655205805},{"$f":"IF(Items!D$5, IF(Items!D$6, Curves!D7, 1-Curves!D7), 1)","v":0.10004515494821539},{"$f":"IF(Items!E$5, IF(Items!E$6, Curves!E7, 1-Curves!E7), 1)","v":0.79999779138803984},{"$f":"IF(Items!F$5, IF(Items!F$6, Curves!F7, 1-Curves!F7), 1)","v":1.5685999966687179E-4},9.9011631145557832E-6,null,"Interval High",{"$f":"J4+J5","v":1.6732944590047443}]
[-5.4,{"$f":"IF(Items!B$5, IF(Items!B$6, Curves!B8, 1-Curves!B8), 1)","v":0.99740093223767667},{"$f":"IF(Items!C$5, IF(Items!C$6, Curves!C8, 1-Curves!C8), 1)","v":0.78949974533031775},{"$f":"IF(Items!D$5, IF(Items!D$6, Curves!D8, 1-Curves!D8), 1)","v":0.1000540597531227},{"$f":"IF(Items!E$5, IF(Items!E$6, Curves!E8, 1-Curves!E8), 1)","v":0.79999730239690903},{"$f":"IF(Items!F$5, IF(Items!F$6, Curves!F8, 1-Curves!F8), 1)","v":1.7685561880001287E-4},1.1147150478608222E-5]
[-5.3,{"$f":"IF(Items!B$5, IF(Items!B$6, Curves!B9, 1-Curves!B9), 1)","v":0.99692079537852274},{"$f":"IF(Items!C$5, IF(Items!C$6, Curves!C9, 1-Curves!C9), 1)","v":0.78852507514920955},{"$f":"IF(Items!D$5, IF(Items!D$6, Curves!D9, 1-Curves!D9), 1)","v":0.10006472050839665},{"$f":"IF(Items!E$5, IF(Items!E$6, Curves!E9, 1-Curves!E9), 1)","v":0.79999670514260413},{"$f":"IF(Items!F$5, IF(Items!F$6, Curves!F9, 1-Curves!F9), 1)","v":1.9939965721107084E-4},1.2547862647964572E-5,null,"Slope",100]
[-5.2,{"$f":"IF(Items!B$5, IF(Items!B$6, Curves!B10, 1-Curves!B10), 1)","v":0.99635228517922503},{"$f":"IF(Items!C$5, IF(Items!C$6, Curves!C10, 1-Curves!C10), 1)","v":0.78746136954716117},{"$f":"IF(Items!D$5, IF(Items!D$6, Curves!D10, 1-Curves!D10), 1)","v":0.10007748341751481},{"$f":"IF(Items!E$5, IF(Items!E$6, Curves!E10, 1-Curves!E10), 1)","v":0.79999597565575864},{"$f":"IF(Items!F$5, IF(Items!F$6, Curves!F10, 1-Curves!F10), 1)","v":2.248167702332953E-4},1.4121962749537148E-5,null,"Intercept",1500]
[-5.0999999999999996,{"$f":"IF(Items!B$5, IF(Items!B$6, Curves!B11, 1-Curves!B11), 1)","v":0.99567926648008809},{"$f":"IF(Items!C$5, IF(Items!C$6, Curves!C11, 1-Curves!C11), 1)","v":0.78630077334741777},{"$f":"IF(Items!D$5, IF(Items!D$6, Curves!D11, 1-Curves!D11), 1)","v":0.10009276291778371},{"$f":"IF(Items!E$5, IF(Items!E$6, Curves!E11, 1-Curves!E11), 1)","v":0.79999508466031821},{"$f":"IF(Items!F$5, IF(Items!F$6, Curves!F11, 1-Curves!F11), 1)","v":2.5347293521645102E-4},1.5890214384922201E-5]
[-5,{"$f":"IF(Items!B$5, IF(Items!B$6, Curves!B12, 1-Curves!B12), 1)","v":0.99488271076995849},{"$f":"IF(Items!C$5, IF(Items!C$6, Curves!C12, 1-Curves!C12), 1)","v":0.78503479203651627},{"$f":"IF(Items!D$5, IF(Items!D$6, Curves!D12, 1-Curves!D12), 1)","v":0.10011105511838761},{"$f":"IF(Items!E$5, IF(Items!E$6, Curves!E12, 1-Curves!E12), 1)","v":0.79999399639872226},{"$f":"IF(Items!F$5, IF(Items!F$6, Curves!F12, 1-Curves!F12), 1)","v":2.8578070084187918E-4},1.7875675070508419E-5,null,"Scale Score",{"$f":"J9*J4+J10","v":1439.999999999998}]
[-4.9000000000000004,{"$f":"IF(Items!B$5, IF(Items!B$6, Curves!B13, 1-Curves!B13), 1)","v":0.99394019850841586},{"$f":"IF(Items!C$5, IF(Items!C$6, Curves!C13, 1-Curves!C13), 1)","v":0.78365425014875756},{"$f":"IF(Items!D$5, IF(Items!D$6, Curves!D13, 1-Curves!D13), 1)","v":0.10013295388049101},{"$f":"IF(Items!E$5, IF(Items!E$6, Curves!E13, 1-Curves!E13), 1)","v":0.79999266719702411},{"$f":"IF(Items!F$5, IF(Items!F$6, Curves!F13, 1-Curves!F13), 1)","v":3.2220510053134382E-4},2.0103894376491948E-5,null,"Scale Stderr",{"$f":"J5*J9","v":227.32944590047643}]
[-4.8,{"$f":"IF(Items!B$5, IF(Items!B$6, Curves!B14, 1-Curves!B14), 1)","v":0.99282534439092529},{"$f":"IF(Items!C$5, IF(Items!C$6, Curves!C14, 1-Curves!C14), 1)","v":0.78214924904077421},{"$f":"IF(Items!D$5, IF(Items!D$6, Curves!D14, 1-Curves!D14), 1)","v":0.10015917005692002},{"$f":"IF(Items!E$5, IF(Items!E$6, Curves!E14, 1-Curves!E14), 1)","v":0.79999104371239593},{"$f":"IF(Items!F$5, IF(Items!F$6, Curves!F14, 1-Curves!F14), 1)","v":3.6327031321807806E-4},2.260311206429616E-5,null,"Interval Low",{"$f":"J12-J13","v":1212.6705540995215}]
[-4.7,{"$f":"IF(Items!B$5, IF(Items!B$6, Curves!B15, 1-Curves!B15), 1)","v":0.9915071371483557},{"$f":"IF(Items!C$5, IF(Items!C$6, Curves!C15, 1-Curves!C15), 1)","v":0.78050912454777777},{"$f":"IF(Items!D$5, IF(Items!D$6, Curves!D15, 1-Curves!D15), 1)","v":0.10019055450948322},{"$f":"IF(Items!E$5, IF(Items!E$6, Curves!E15, 1-Curves!E15), 1)","v":0.79998906079273224},{"$f":"IF(Items!F$5, IF(Items!F$6, Curves!F15, 1-Curves!F15), 1)","v":4.0956716498605043E-4},2.5404449584517773E-5,null,"Interval High",{"$f":"J12+J13","v":1667.3294459004744}]
[-4.5999999999999996,{"$f":"IF(Items!B$5, IF(Items!B$6, Curves!B16, 1-Curves!B16), 1)","v":0.98994918611652627},{"$f":"IF(Items!C$5, IF(Items!C$6, Curves!C16, 1-Curves!C16), 1)","v":0.77872240513850732},{"$f":"IF(Items!D$5, IF(Items!D$6, Curves!D16, 1-Curves!D16), 1)","v":0.10022812564169481},{"$f":"IF(Items!E$5, IF(Items!E$6, Curves!E16, 1-Curves!E16), 1)","v":0.79998663886252153},{"$f":"IF(Items!F$5, IF(Items!F$6, Curves!F16, 1-Curves!F16), 1)","v":4.6176157652407581E-4},2.8542085821616963E-5]
[-4.5,{"$f":"IF(Items!B$5, IF(Items!B$6, Curves!B17, 1-Curves!B17), 1)","v":0.98810886835561296},{"$f":"IF(Items!C$5, IF(Items!C$6, Curves!C17, 1-Curves!C17), 1)","v":0.77677677133092737},{"$f":"IF(Items!D$5, IF(Items!D$6, Curves!D17, 1-Curves!D17), 1)","v":0.10027310232702603},{"$f":"IF(Items!E$5, IF(Items!E$6, Curves!E17, 1-Curves!E17), 1)","v":0.79998368073017612},{"$f":"IF(Items!F$5, IF(Items!F$6, Curves!F17, 1-Curves!F17), 1)","v":5.2060407411094257E-4},3.2053404853082427E-5]
[-4.4000000000000004,{"$f":"IF(Items!B$5, IF(Items!B$6, Curves!B18, 1-Curves!B18), 1)","v":0.98593637295675451},{"$f":"IF(Items!C$5, IF(Items!C$6, Curves!C18, 1-Curves!C18), 1)","v":0.7746590172967549},{"$f":"IF(Items!D$5, IF(Items!D$6, Curves!D18, 1-Curves!D18), 1)","v":0.10032694328189627},{"$f":"IF(Items!E$5, IF(Items!E$6, Curves!E18, 1-Curves!E18), 1)","v":0.79998006768884844},{"$f":"IF(Items!F$5, IF(Items!F$6, Curves!F18, 1-Curves!F18), 1)","v":5.8694049608080273E-4},3.5979099626334989E-5]
[-4.3,{"$f":"IF(Items!B$5, IF(Items!B$6, Curves!B19, 1-Curves!B19), 1)","v":0.98337364389211834},{"$f":"IF(Items!C$5, IF(Items!C$6, Curves!C19, 1-Curves!C19), 1)","v":0.77235501577097876},{"$f":"IF(Items!D$5, IF(Items!D$6, Curves!D19, 1-Curves!D19), 1)","v":0.10039139413310889},{"$f":"IF(Items!E$5, IF(Items!E$6, Curves!E19, 1-Curves!E19), 1)","v":0.79997565475447951},{"$f":"IF(Items!F$5, IF(Items!F$6, Curves!F19, 1-Curves!F19), 1)","v":6.6172404255704506E-4},4.0363210758425123E-5]
[-4.2,{"$f":"IF(Items!B$5, IF(Items!B$6, Curves!B20, 1-Curves!B20), 1)","v":0.98035323005231134},{"$f":"IF(Items!C$5, IF(Items!C$6, Curves!C20, 1-Curves!C20), 1)","v":0.76984968759311523},{"$f":"IF(Items!D$5, IF(Items!D$6, Curves!D20, 1-Curves!D20), 1)","v":0.10046854366669986},{"$f":"IF(Items!E$5, IF(Items!E$6, Curves!E20, 1-Curves!E20), 1)","v":0.79997026485031764},{"$f":"IF(Items!F$5, IF(Items!F$6, Curves!F20, 1-Curves!F20), 1)","v":7.4602883383669764E-4},4.5253074084712481E-5]
[-4.0999999999999996,{"$f":"IF(Items!B$5, IF(Items!B$6, Curves!B21, 1-Curves!B21), 1)","v":0.97679706185435589},{"$f":"IF(Items!C$5, IF(Items!C$6, Curves!C21, 1-Curves!C21), 1)","v":0.76712697743962799},{"$f":"IF(Items!D$5, IF(Items!D$6, Curves!D21, 1-Curves!D21), 1)","v":0.10056089102525921},{"$f":"IF(Items!E$5, IF(Items!E$6, Curves!E21, 1-Curves!E21), 1)","v":0.79996368170503807},{"$f":"IF(Items!F$5, IF(Items!F$6, Curves!F21, 1-Curves!F21), 1)","v":8.4106516230888139E-4},5.0699144156918529E-5]
[-4,{"$f":"IF(Items!B$5, IF(Items!B$6, Curves!B22, 1-Curves!B22), 1)","v":0.97261518904987432},{"$f":"IF(Items!C$5, IF(Items!C$6, Curves!C22, 1-Curves!C22), 1)","v":0.76416983756017065},{"$f":"IF(Items!D$5, IF(Items!D$6, Curves!D22, 1-Curves!D22), 1)","v":0.10067142595045303},{"$f":"IF(Items!E$5, IF(Items!E$6, Curves!E22, 1-Curves!E22), 1)","v":0.79995564118022178},{"$f":"IF(Items!F$5, IF(Items!F$6, Curves!F22, 1-Curves!F22), 1)","v":9.4819664435372543E-4},5.6754653792427666E-5]
[-3.9,{"$f":"IF(Items!B$5, IF(Items!B$6, Curves!B23, 1-Curves!B23), 1)","v":0.96770453530154943},{"$f":"IF(Items!C$5, IF(Items!C$6, Curves!C23, 1-Curves!C23), 1)","v":0.76096022160096},{"$f":"IF(Items!D$5, IF(Items!D$6, Curves!D23, 1-Curves!D23), 1)","v":0.10080372455406836},{"$f":"IF(Items!E$5, IF(Items!E$6, Curves!E23, 1-Curves!E23), 1)","v":0.79994582068030418},{"$f":"IF(Items!F$5, IF(Items!F$6, Curves!F23, 1-Curves!F23), 1)","v":1.0689595024419641E-3},6.3475062405509781E-5]
[-3.8,{"$f":"IF(Items!B$5, IF(Items!B$6, Curves!B24, 1-Curves!B24), 1)","v":0.96194775292900792},{"$f":"IF(Items!C$5, IF(Items!C$6, Curves!C24, 1-Curves!C24), 1)","v":0.75747909088154897},{"$f":"IF(Items!D$5, IF(Items!D$6, Curves!D24, 1-Curves!D24), 1)","v":0.10096206355219778},{"$f":"IF(Items!E$5, IF(Items!E$6, Curves!E24, 1-Curves!E24), 1)","v":0.7999338262217186},{"$f":"IF(Items!F$5, IF(Items!F$6, Curves!F24, 1-Curves!F24), 1)","v":1.205084233778948E-3},7.0917238948272626E-5]
[-3.7,{"$f":"IF(Items!B$5, IF(Items!B$6, Curves!B25, 1-Curves!B25), 1)","v":0.95521229695021326},{"$f":"IF(Items!C$5, IF(Items!C$6, Curves!C25, 1-Curves!C25), 1)","v":0.75370643577891117},{"$f":"IF(Items!D$5, IF(Items!D$6, Curves!D25, 1-Curves!D25), 1)","v":0.10115155642101671},{"$f":"IF(Items!E$5, IF(Items!E$6, Curves!E25, 1-Curves!E25), 1)","v":0.79991917664487378},{"$f":"IF(Items!F$5, IF(Items!F$6, Curves!F25, 1-Curves!F25), 1)","v":1.3585199504289591E-3},7.9138320081297784E-5]
[-3.6,{"$f":"IF(Items!B$5, IF(Items!B$6, Curves!B26, 1-Curves!B26), 1)","v":0.94734988156469713},{"$f":"IF(Items!C$5, IF(Items!C$6, Curves!C26, 1-Curves!C26), 1)","v":0.74962131515440278},{"$f":"IF(Items!D$5, IF(Items!D$6, Curves!D26, 1-Curves!D26), 1)","v":0.10137831553630296},{"$f":"IF(Items!E$5, IF(Items!E$6, Curves!E26, 1-Curves!E26), 1)","v":0.79990128433921104},{"$f":"IF(Items!F$5, IF(Items!F$6, Curves!F26, 1-Curves!F26), 1)","v":1.5314617070032849E-3},8.8194182557012411E-5]
[-3.5000000000000102,{"$f":"IF(Items!B$5, IF(Items!B$6, Curves!B27, 1-Curves!B27), 1)","v":0.93819653373641243},{"$f":"IF(Items!C$5, IF(Items!C$6, Curves!C27, 1-Curves!C27), 1)","v":0.74520191702053951},{"$f":"IF(Items!D$5, IF(Items!D$6, Curves!D27, 1-Curves!D27), 1)","v":0.1016496450482435},{"$f":"IF(Items!E$5, IF(Items!E$6, Curves!E27, 1-Curves!E27), 1)","v":0.79987943171355225},{"$f":"IF(Items!F$5, IF(Items!F$6, Curves!F27, 1-Curves!F27), 1)","v":1.7263811657371314E-3},9.8137473411128657E-5]
[-3.4000000000000101,{"$f":"IF(Items!B$5, IF(Items!B$6, Curves!B28, 1-Curves!B28), 1)","v":0.92757351463848348},{"$f":"IF(Items!C$5, IF(Items!C$6, Curves!C28, 1-Curves!C28), 1)","v":0.74042564386717802},{"$f":"IF(Items!D$5, IF(Items!D$6, Curves!D28, 1-Curves!D28), 1)","v":0.10197427002103784},{"$f":"IF(Items!E$5, IF(Items!E$6, Curves!E28, 1-Curves!E28), 1)","v":0.79985274247602922},{"$f":"IF(Items!F$5, IF(Items!F$6, Curves!F28, 1-Curves!F28), 1)","v":1.9460609850855358E-3},1.0901515598085428E-4]
[-3.30000000000001,{"$f":"IF(Items!B$5, IF(Items!B$6, Curves!B29, 1-Curves!B29), 1)","v":0.91528943426926557},{"$f":"IF(Items!C$5, IF(Items!C$6, Curves!C29, 1-Curves!C29), 1)","v":0.73526922622762825},{"$f":"IF(Items!D$5, IF(Items!D$6, Curves!D29, 1-Curves!D29), 1)","v":0.10236260823099413},{"$f":"IF(Items!E$5, IF(Items!E$6, Curves!E29, 1-Curves!E29), 1)","v":0.7998201465838134},{"$f":"IF(Items!F$5, IF(Items!F$6, Curves!F29, 1-Curves!F29), 1)","v":2.1936333567087185E-3},1.2086555835222249E-4]
[-3.2000000000000099,{"$f":"IF(Items!B$5, IF(Items!B$6, Curves!B30, 1-Curves!B30), 1)","v":0.90114392682183209},{"$f":"IF(Items!C$5, IF(Items!C$6, Curves!C30, 1-Curves!C30), 1)","v":0.72970886813655955},{"$f":"IF(Items!D$5, IF(Items!D$6, Curves!D30, 1-Curves!D30), 1)","v":0.10282709195634644},{"$f":"IF(Items!E$5, IF(Items!E$6, Curves!E30, 1-Curves!E30), 1)","v":0.7997803374751189},{"$f":"IF(Items!F$5, IF(Items!F$6, Curves!F30, 1-Curves!F30), 1)","v":2.4726231566347457E-3},1.3371495828439658E-4]
[-3.1000000000000099,{"$f":"IF(Items!B$5, IF(Items!B$6, Curves!B31, 1-Curves!B31), 1)","v":0.88493326795445193},{"$f":"IF(Items!C$5, IF(Items!C$6, Curves!C31, 1-Curves!C31), 1)","v":0.72372042808071302},{"$f":"IF(Items!D$5, IF(Items!D$6, Curves!D31, 1-Curves!D31), 1)","v":0.10338254808265067},{"$f":"IF(Items!E$5, IF(Items!E$6, Curves!E31, 1-Curves!E31), 1)","v":0.79973171989562686},{"$f":"IF(Items!F$5, IF(Items!F$6, Curves!F31, 1-Curves!F31), 1)","v":2.7869962190422469E-3},1.4757380903797408E-4]
[-3.0000000000000102,{"$f":"IF(Items!B$5, IF(Items!B$6, Curves!B32, 1-Curves!B32), 1)","v":0.86645827746678949},{"$f":"IF(Items!C$5, IF(Items!C$6, Curves!C32, 1-Curves!C32), 1)","v":0.71727963883340096},{"$f":"IF(Items!D$5, IF(Items!D$6, Curves!D32, 1-Curves!D32), 1)","v":0.10404664584484699},{"$f":"IF(Items!E$5, IF(Items!E$6, Curves!E32, 1-Curves!E32), 1)","v":0.79967234626801109},{"$f":"IF(Items!F$5, IF(Items!F$6, Curves!F32, 1-Curves!F32), 1)","v":3.1412132848293883E-3},1.6243280555147856E-4]
[-2.9000000000000101,{"$f":"IF(Items!B$5, IF(Items!B$6, Curves!B33, 1-Curves!B33), 1)","v":0.84553473491646758},{"$f":"IF(Items!C$5, IF(Items!C$6, Curves!C33, 1-Curves!C33), 1)","v":0.71036236915440842},{"$f":"IF(Items!D$5, IF(Items!D$6, Curves!D33, 1-Curves!D33), 1)","v":0.10484042245646366},{"$f":"IF(Items!E$5, IF(Items!E$6, Curves!E33, 1-Curves!E33), 1)","v":0.79959983911433641},{"$f":"IF(Items!F$5, IF(Items!F$6, Curves!F33, 1-Curves!F33), 1)","v":3.5402902209464627E-3},1.7825910680877214E-4]
[-2.80000000000001,{"$f":"IF(Items!B$5, IF(Items!B$6, Curves!B34, 1-Curves!B34), 1)","v":0.82200631421375603},{"$f":"IF(Items!C$5, IF(Items!C$6, Curves!C34, 1-Curves!C34), 1)","v":0.70294492968661126},{"$f":"IF(Items!D$5, IF(Items!D$6, Curves!D34, 1-Curves!D34), 1)","v":0.10578889762022667},{"$f":"IF(Items!E$5, IF(Items!E$6, Curves!E34, 1-Curves!E34), 1)","v":0.79951129651245245},{"$f":"IF(Items!F$5, IF(Items!F$6, Curves!F34, 1-Curves!F34), 1)","v":3.9898651489940545E-3},1.9499315656714417E-4]
[-2.7000000000000099,{"$f":"IF(Items!B$5, IF(Items!B$6, Curves!B35, 1-Curves!B35), 1)","v":0.79575969771591093},{"$f":"IF(Items!C$5, IF(Items!C$6, Curves!C35, 1-Curves!C35), 1)","v":0.6950044244491822},{"$f":"IF(Items!D$5, IF(Items!D$6, Curves!D35, 1-Curves!D35), 1)","v":0.10692178829335738},{"$f":"IF(Items!E$5, IF(Items!E$6, Curves!E35, 1-Curves!E35), 1)","v":0.79940317693293061},{"$f":"IF(Items!F$5, IF(Items!F$6, Curves!F35, 1-Curves!F35), 1)","v":4.496273160941127E-3},2.1254665813234578E-4]
[-2.6000000000000099,{"$f":"IF(Items!B$5, IF(Items!B$6, Curves!B36, 1-Curves!B36), 1)","v":0.76674106422854582},{"$f":"IF(Items!C$5, IF(Items!C$6, Curves!C36, 1-Curves!C36), 1)","v":0.68651914807961067},{"$f":"IF(Items!D$5, IF(Items!D$6, Curves!D36, 1-Curves!D36), 1)","v":0.10827433483055915},{"$f":"IF(Items!E$5, IF(Items!E$6, Curves!E36, 1-Curves!E36), 1)","v":0.79927115904447943},{"$f":"IF(Items!F$5, IF(Items!F$6, Curves!F36, 1-Curves!F36), 1)","v":5.0666293334661961E-3},2.3080232419659611E-4]
[-2.5000000000000102,{"$f":"IF(Items!B$5, IF(Items!B$6, Curves!B37, 1-Curves!B37), 1)","v":0.73497259946652216},{"$f":"IF(Items!C$5, IF(Items!C$6, Curves!C37, 1-Curves!C37), 1)","v":0.67746902738793202},{"$f":"IF(Items!D$5, IF(Items!D$6, Curves!D37, 1-Curves!D37), 1)","v":0.10988824836753369},{"$f":"IF(Items!E$5, IF(Items!E$6, Curves!E37, 1-Curves!E37), 1)","v":0.79910997117371174},{"$f":"IF(Items!F$5, IF(Items!F$6, Curves!F37, 1-Curves!F37), 1)","v":5.7089207770232723E-3},2.4961599460884517E-4]
[-2.4000000000000101,{"$f":"IF(Items!B$5, IF(Items!B$6, Curves!B38, 1-Curves!B38), 1)","v":0.70056714247397656},{"$f":"IF(Items!C$5, IF(Items!C$6, Curves!C38, 1-Curves!C38), 1)","v":0.66783610384750935},{"$f":"IF(Items!D$5, IF(Items!D$6, Curves!D38, 1-Curves!D38), 1)","v":0.11181278650339231},{"$f":"IF(Items!E$5, IF(Items!E$6, Curves!E38, 1-Curves!E38), 1)","v":0.79891318403965683},{"$f":"IF(Items!F$5, IF(Items!F$6, Curves!F38, 1-Curves!F38), 1)","v":6.4321084669185617E-3},2.6882154731830882E-4]
[-2.30000000000001,{"$f":"IF(Items!B$5, IF(Items!B$6, Curves!B39, 1-Curves!B39), 1)","v":0.66373869740435643},{"$f":"IF(Items!C$5, IF(Items!C$6, Curves!C39, 1-Curves!C39), 1)","v":0.65760505137100389},{"$f":"IF(Items!D$5, IF(Items!D$6, Curves!D39, 1-Curves!D39), 1)","v":0.11410595925944346},{"$f":"IF(Items!E$5, IF(Items!E$6, Curves!E39, 1-Curves!E39), 1)","v":0.79867295913586045},{"$f":"IF(Items!F$5, IF(Items!F$6, Curves!F39, 1-Curves!F39), 1)","v":7.2462395958313398E-3},2.8823869049684564E-4]
[-2.2000000000000099,{"$f":"IF(Items!B$5, IF(Items!B$6, Curves!B40, 1-Curves!B40), 1)","v":0.62480647446843318},{"$f":"IF(Items!C$5, IF(Items!C$6, Curves!C40, 1-Curves!C40), 1)","v":0.64676372115082703},{"$f":"IF(Items!D$5, IF(Items!D$6, Curves!D40, 1-Curves!D40), 1)","v":0.11683585895891885},{"$f":"IF(Items!E$5, IF(Items!E$6, Curves!E40, 1-Curves!E40), 1)","v":0.79837974368876008},{"$f":"IF(Items!F$5, IF(Items!F$6, Curves!F40, 1-Curves!F40), 1)","v":8.162571153159803E-3},3.0768322408183734E-4]
[-2.1000000000000099,{"$f":"IF(Items!B$5, IF(Items!B$6, Curves!B41, 1-Curves!B41), 1)","v":0.5841905229354114},{"$f":"IF(Items!C$5, IF(Items!C$6, Curves!C41, 1-Curves!C41), 1)","v":0.63530370255924329},{"$f":"IF(Items!D$5, IF(Items!D$6, Curves!D41, 1-Curves!D41), 1)","v":0.12008209482912867},{"$f":"IF(Items!E$5, IF(Items!E$6, Curves!E41, 1-Curves!E41), 1)","v":0.79802190147469221},{"$f":"IF(Items!F$5, IF(Items!F$6, Curves!F41, 1-Curves!F41), 1)","v":9.1937053672879812E-3},3.2697875930820465E-4]
[-2.0000000000000102,{"$f":"IF(Items!B$5, IF(Items!B$6, Curves!B42, 1-Curves!B42), 1)","v":0.54239794077435532},{"$f":"IF(Items!C$5, IF(Items!C$6, Curves!C42, 1-Curves!C42), 1)","v":0.62322088622385097},{"$f":"IF(Items!D$5, IF(Items!D$6, Curves!D42, 1-Curves!D42), 1)","v":0.12393729421917885},{"$f":"IF(Items!E$5, IF(Items!E$6, Curves!E42, 1-Curves!E42), 1)","v":0.79758526694023324},{"$f":"IF(Items!F$5, IF(Items!F$6, Curves!F42, 1-Curves!F42), 1)","v":1.0353737531091624E-2},3.4596830711765405E-4]
[-1.9000000000000099,{"$f":"IF(Items!B$5, IF(Items!B$6, Curves!B43, 1-Curves!B43), 1)","v":0.50000000000000422},{"$f":"IF(Items!C$5, IF(Items!C$6, Curves!C43, 1-Curves!C43), 1)","v":0.61051601258148569},{"$f":"IF(Items!D$5, IF(Items!D$6, Curves!D43, 1-Curves!D43), 1)","v":0.12850860554115029},{"$f":"IF(Items!E$5, IF(Items!E$6, Curves!E43, 1-Curves!E43), 1)","v":0.7970526080804512},{"$f":"IF(Items!F$5, IF(Items!F$6, Curves!F43, 1-Curves!F43), 1)","v":1.1658416554832962E-2},3.6452375072716799E-4]
[-1.80000000000001,{"$f":"IF(Items!B$5, IF(Items!B$6, Curves!B44, 1-Curves!B44), 1)","v":0.45760205922565333},{"$f":"IF(Items!C$5, IF(Items!C$6, Curves!C44, 1-Curves!C44), 1)","v":0.59719518667013105},{"$f":"IF(Items!D$5, IF(Items!D$6, Curves!D44, 1-Curves!D44), 1)","v":0.13391910145774474},{"$f":"IF(Items!E$5, IF(Items!E$6, Curves!E44, 1-Curves!E44), 1)","v":0.79640298147124711},{"$f":"IF(Items!F$5, IF(Items!F$6, Curves!F44, 1-Curves!F44), 1)","v":1.3125318337102648E-2},3.8255115559816485E-4]
[-1.7000000000000099,{"$f":"IF(Items!B$5, IF(Items!B$6, Curves!B45, 1-Curves!B45), 1)","v":0.41580947706459681},{"$f":"IF(Items!C$5, IF(Items!C$6, Curves!C45, 1-Curves!C45), 1)","v":0.5832703378794466},{"$f":"IF(Items!D$5, IF(Items!D$6, Curves!D45, 1-Curves!D45), 1)","v":0.14030893274480738},{"$f":"IF(Items!E$5, IF(Items!E$6, Curves!E45, 1-Curves!E45), 1)","v":0.79561096088043981},{"$f":"IF(Items!F$5, IF(Items!F$6, Curves!F45, 1-Curves!F45), 1)","v":1.4774031693272887E-2},3.999902264077951E-4]
[-1.6000000000000101,{"$f":"IF(Items!B$5, IF(Items!B$6, Curves!B46, 1-Curves!B46), 1)","v":0.37519352553157481},{"$f":"IF(Items!C$5, IF(Items!C$6, Curves!C46, 1-Curves!C46), 1)","v":0.56875960210000465},{"$f":"IF(Items!D$5, IF(Items!D$6, Curves!D46, 1-Curves!D46), 1)","v":0.14783602275825652},{"$f":"IF(Items!E$5, IF(Items!E$6, Curves!E46, 1-Curves!E46), 1)","v":0.79464571926057226},{"$f":"IF(Items!F$5, IF(Items!F$6, Curves!F46, 1-Curves!F46), 1)","v":1.6626356107881435E-2},4.1680697081877962E-4]
[-1.50000000000001,{"$f":"IF(Items!B$5, IF(Items!B$6, Curves!B47, 1-Curves!B47), 1)","v":0.33626130259565112},{"$f":"IF(Items!C$5, IF(Items!C$6, Curves!C47, 1-Curves!C47), 1)","v":0.55368760344143197},{"$f":"IF(Items!D$5, IF(Items!D$6, Curves!D47, 1-Curves!D47), 1)","v":0.15667602045129589},{"$f":"IF(Items!E$5, IF(Items!E$6, Curves!E47, 1-Curves!E47), 1)","v":0.79346994307747221},{"$f":"IF(Items!F$5, IF(Items!F$6, Curves!F47, 1-Curves!F47), 1)","v":1.8706509954354383E-2},4.3297963771692213E-4]
[-1.4000000000000099,{"$f":"IF(Items!B$5, IF(Items!B$6, Curves!B48, 1-Curves!B48), 1)","v":0.29943285752603066},{"$f":"IF(Items!C$5, IF(Items!C$6, Curves!C48, 1-Curves!C48), 1)","v":0.53808561365420993},{"$f":"IF(Items!D$5, IF(Items!D$6, Curves!D48, 1-Curves!D48), 1)","v":0.16702115064942419},{"$f":"IF(Items!E$5, IF(Items!E$6, Curves!E48, 1-Curves!E48), 1)","v":0.79203855850647664},{"$f":"IF(Items!F$5, IF(Items!F$6, Curves!F48, 1-Curves!F48), 1)","v":2.1041347020468035E-2},4.4847906051395946E-4]
[-1.30000000000001,{"$f":"IF(Items!B$5, IF(Items!B$6, Curves!B49, 1-Curves!B49), 1)","v":0.26502740053348461},{"$f":"IF(Items!C$5, IF(Items!C$6, Curves!C49, 1-Curves!C49), 1)","v":0.52199156975419725},{"$f":"IF(Items!D$5, IF(Items!D$6, Curves!D49, 1-Curves!D49), 1)","v":0.17907752334636981},{"$f":"IF(Items!E$5, IF(Items!E$6, Curves!E49, 1-Curves!E49), 1)","v":0.79029725201258083},{"$f":"IF(Items!F$5, IF(Items!F$6, Curves!F49, 1-Curves!F49), 1)","v":2.3660578155460927E-2},4.6324545800809617E-4]
[-1.2000000000000099,{"$f":"IF(Items!B$5, IF(Items!B$6, Curves!B50, 1-Curves!B50), 1)","v":0.23325893577146029},{"$f":"IF(Items!C$5, IF(Items!C$6, Curves!C50, 1-Curves!C50), 1)","v":0.50544993418888295},{"$f":"IF(Items!D$5, IF(Items!D$6, Curves!D50, 1-Curves!D50), 1)","v":0.19306040631242313},{"$f":"IF(Items!E$5, IF(Items!E$6, Curves!E50, 1-Curves!E50), 1)","v":0.78818077464538172},{"$f":"IF(Items!F$5, IF(Items!F$6, Curves!F50, 1-Curves!F50), 1)","v":2.6596993576865555E-2},4.7716440127525529E-4]
[-1.1000000000000101,{"$f":"IF(Items!B$5, IF(Items!B$6, Curves!B51, 1-Curves!B51), 1)","v":0.20424030228409451},{"$f":"IF(Items!C$5, IF(Items!C$6, Curves!C51, 1-Curves!C51), 1)","v":0.48851138715937925},{"$f":"IF(Items!D$5, IF(Items!D$6, Curves!D51, 1-Curves!D51), 1)","v":0.20918695410256144},{"$f":"IF(Items!E$5, IF(Items!E$6, Curves!E51, 1-Curves!E51), 1)","v":0.78561103203032701},{"$f":"IF(Items!F$5, IF(Items!F$6, Curves!F51, 1-Curves!F51), 1)","v":2.9886679803635886E-2},4.9004501607626081E-4]
[-1.00000000000001,{"$f":"IF(Items!B$5, IF(Items!B$6, Curves!B52, 1-Curves!B52), 1)","v":0.17799368578624908},{"$f":"IF(Items!C$5, IF(Items!C$6, Curves!C52, 1-Curves!C52), 1)","v":0.47123234724693375},{"$f":"IF(Items!D$5, IF(Items!D$6, Curves!D52, 1-Curves!D52), 1)","v":0.22766595841043705},{"$f":"IF(Items!E$5, IF(Items!E$6, Curves!E52, 1-Curves!E52), 1)","v":0.7824949832510959},{"$f":"IF(Items!F$5, IF(Items!F$6, Curves!F52, 1-Curves!F52), 1)","v":3.3569223281482131E-2},5.0160359826240662E-4]
[-0.90000000000001001,{"$f":"IF(Items!B$5, IF(Items!B$6, Curves!B53, 1-Curves!B53), 1)","v":0.15446526508353697},{"$f":"IF(Items!C$5, IF(Items!C$6, Curves!C53, 1-Curves!C53), 1)","v":0.45367432397236529},{"$f":"IF(Items!D$5, IF(Items!D$6, Curves!D53, 1-Curves!D53), 1)","v":0.24868438317155092},{"$f":"IF(Items!E$5, IF(Items!E$6, Curves!E53, 1-Curves!E53), 1)","v":0.77872240513850777},{"$f":"IF(Items!F$5, IF(Items!F$6, Curves!F53, 1-Curves!F53), 1)","v":3.7687890508605493E-2},5.1145572936430448E-4]
[-0.80000000000001004,{"$f":"IF(Items!B$5, IF(Items!B$6, Curves!B54, 1-Curves!B54), 1)","v":0.13354172253321439},{"$f":"IF(Items!C$5, IF(Items!C$6, Curves!C54, 1-Curves!C54), 1)","v":0.43590311389886582},{"$f":"IF(Items!D$5, IF(Items!D$6, Curves!D54, 1-Curves!D54), 1)","v":0.27239081370531826},{"$f":"IF(Items!E$5, IF(Items!E$6, Curves!E54, 1-Curves!E54), 1)","v":0.77416362824124008},{"$f":"IF(Items!F$5, IF(Items!F$6, Curves!F54, 1-Curves!F54), 1)","v":4.2289771842033301E-2},5.1911969720261852E-4]
[-0.70000000000002005,{"$f":"IF(Items!B$5, IF(Items!B$6, Curves!B55, 1-Curves!B55), 1)","v":0.11506673204555329},{"$f":"IF(Items!C$5, IF(Items!C$6, Curves!C55, 1-Curves!C55), 1)","v":0.41798785983344366},{"$f":"IF(Items!D$5, IF(Items!D$6, Curves!D55, 1-Curves!D55), 1)","v":0.29887650299816348},{"$f":"IF(Items!E$5, IF(Items!E$6, Curves!E55, 1-Curves!E55), 1)","v":0.76866742176258973},{"$f":"IF(Items!F$5, IF(Items!F$6, Curves!F55, 1-Curves!F55), 1)","v":4.7425873177565692E-2},5.240334755675398E-4]
[-0.60000000000001996,{"$f":"IF(Items!B$5, IF(Items!B$6, Curves!B56, 1-Curves!B56), 1)","v":9.8856073178172466E-2},{"$f":"IF(Items!C$5, IF(Items!C$6, Curves!C56, 1-Curves!C56), 1)","v":0.40000000000000346},{"$f":"IF(Items!D$5, IF(Items!D$6, Curves!D56, 1-Curves!D56), 1)","v":0.3281554149960979},{"$f":"IF(Items!E$5, IF(Items!E$6, Curves!E56, 1-Curves!E56), 1)","v":0.76205930145794798},{"$f":"IF(Items!F$5, IF(Items!F$6, Curves!F56, 1-Curves!F56), 1)","v":5.3151136398062522E-2},5.2558655166001496E-4]
[-0.50000000000001998,{"$f":"IF(Items!B$5, IF(Items!B$6, Curves!B57, 1-Curves!B57), 1)","v":8.4710565730738319E-2},{"$f":"IF(Items!C$5, IF(Items!C$6, Curves!C57, 1-Curves!C57), 1)","v":0.38201214016656349},{"$f":"IF(Items!D$5, IF(Items!D$6, Curves!D57, 1-Curves!D57), 1)","v":0.36014544763748979},{"$f":"IF(Items!E$5, IF(Items!E$6, Curves!E57, 1-Curves!E57), 1)","v":0.75414065928090668},{"$f":"IF(Items!F$5, IF(Items!F$6, Curves!F57, 1-Curves!F57), 1)","v":5.9524365976500147E-2},5.2316636026341506E-4]
[-0.40000000000002001,{"$f":"IF(Items!B$5, IF(Items!B$6, Curves!B58, 1-Curves!B58), 1)","v":7.2426485361520077E-2},{"$f":"IF(Items!C$5, IF(Items!C$6, Curves!C58, 1-Curves!C58), 1)","v":0.36409688610113955},{"$f":"IF(Items!D$5, IF(Items!D$6, Curves!D58, 1-Curves!D58), 1)","v":0.39465368463900852},{"$f":"IF(Items!E$5, IF(Items!E$6, Curves!E58, 1-Curves!E58), 1)","v":0.74468926372532462},{"$f":"IF(Items!F$5, IF(Items!F$6, Curves!F58, 1-Curves!F58), 1)","v":6.6608035575089167E-2},5.1621694394189503E-4]
[-0.30000000000001997,{"$f":"IF(Items!B$5, IF(Items!B$6, Curves!B59, 1-Curves!B59), 1)","v":6.1803466263590678E-2},{"$f":"IF(Items!C$5, IF(Items!C$6, Curves!C59, 1-Curves!C59), 1)","v":0.34632567602764008},{"$f":"IF(Items!D$5, IF(Items!D$6, Curves!D59, 1-Curves!D59), 1)","v":0.43136882403750099},{"$f":"IF(Items!E$5, IF(Items!E$6, Curves!E59, 1-Curves!E59), 1)","v":0.73346184280486448},{"$f":"IF(Items!F$5, IF(Items!F$6, Curves!F59, 1-Curves!F59), 1)","v":7.4467945166026409E-2},5.0430488381035424E-4]
[-0.20000000000002,{"$f":"IF(Items!B$5, IF(Items!B$6, Curves!B60, 1-Curves!B60), 1)","v":5.2650118435304538E-2},{"$f":"IF(Items!C$5, IF(Items!C$6, Curves!C60, 1-Curves!C60), 1)","v":0.3287676527530714},{"$f":"IF(Items!D$5, IF(Items!D$6, Curves!D60, 1-Curves!D60), 1)","v":0.46986360934719362},{"$f":"IF(Items!E$5, IF(Items!E$6, Curves!E60, 1-Curves!E60), 1)","v":0.72019960870425481},{"$f":"IF(Items!F$5, IF(Items!F$6, Curves!F60, 1-Curves!F60), 1)","v":8.3172696493920548E-2},4.8718499826897073E-4]
[-0.10000000000002,{"$f":"IF(Items!B$5, IF(Items!B$6, Curves!B61, 1-Curves!B61), 1)","v":4.4787703049788297E-2},{"$f":"IF(Items!C$5, IF(Items!C$6, Curves!C61, 1-Curves!C61), 1)","v":0.31148861284062579},{"$f":"IF(Items!D$5, IF(Items!D$6, Curves!D61, 1-Curves!D61), 1)","v":0.50960899686376993},{"$f":"IF(Items!E$5, IF(Items!E$6, Curves!E61, 1-Curves!E61), 1)","v":0.70463766238230929},{"$f":"IF(Items!F$5, IF(Items!F$6, Curves!F61, 1-Curves!F61), 1)","v":9.2792953117154964E-2},4.6485649131480187E-4]
[-2.0428103653102899E-14,{"$f":"IF(Items!B$5, IF(Items!B$6, Curves!B62, 1-Curves!B62), 1)","v":3.8052247070993528E-2},{"$f":"IF(Items!C$5, IF(Items!C$6, Curves!C62, 1-Curves!C62), 1)","v":0.29455006581112197},{"$f":"IF(Items!D$5, IF(Items!D$6, Curves!D62, 1-Curves!D62), 1)","v":0.54999999999999172},{"$f":"IF(Items!E$5, IF(Items!E$6, Curves!E62, 1-Curves!E62), 1)","v":0.68651914807961378},{"$f":"IF(Items!F$5, IF(Items!F$6, Curves!F62, 1-Curves!F62), 1)","v":0.10340045145824731},4.3759989725861555E-4]
[9.9999999999980105E-2,{"$f":"IF(Items!B$5, IF(Items!B$6, Curves!B63, 1-Curves!B63), 1)","v":3.2295464698451681E-2},{"$f":"IF(Items!C$5, IF(Items!C$6, Curves!C63, 1-Curves!C63), 1)","v":0.27800843024580768},{"$f":"IF(Items!D$5, IF(Items!D$6, Curves!D63, 1-Curves!D63), 1)","v":0.59039100313621407},{"$f":"IF(Items!E$5, IF(Items!E$6, Curves!E63, 1-Curves!E63), 1)","v":0.66561470810714396},{"$f":"IF(Items!F$5, IF(Items!F$6, Curves!F63, 1-Curves!F63), 1)","v":0.11506673204554736},4.059868092532459E-4]
[0.19999999999998,{"$f":"IF(Items!B$5, IF(Items!B$6, Curves!B64, 1-Curves!B64), 1)","v":2.738481095012657E-2},{"$f":"IF(Items!C$5, IF(Items!C$6, Curves!C64, 1-Curves!C64), 1)","v":0.26191438634579467},{"$f":"IF(Items!D$5, IF(Items!D$6, Curves!D64, 1-Curves!D64), 1)","v":0.6301363906527907},{"$f":"IF(Items!E$5, IF(Items!E$6, Curves!E64, 1-Curves!E64), 1)","v":0.64174711084687042},{"$f":"IF(Items!F$5, IF(Items!F$6, Curves!F64, 1-Curves!F64), 1)","v":0.12786156631907866},3.7085795952566963E-4]
[0.29999999999998,{"$f":"IF(Items!B$5, IF(Items!B$6, Curves!B65, 1-Curves!B65), 1)","v":2.320293814564478E-2},{"$f":"IF(Items!C$5, IF(Items!C$6, Curves!C65, 1-Curves!C65), 1)","v":0.24631239655857251},{"$f":"IF(Items!D$5, IF(Items!D$6, Curves!D65, 1-Curves!D65), 1)","v":0.668631175962484},{"$f":"IF(Items!E$5, IF(Items!E$6, Curves!E65, 1-Curves!E65), 1)","v":0.61481982679921976},{"$f":"IF(Items!F$5, IF(Items!F$6, Curves!F65, 1-Curves!F65), 1)","v":0.14185106490048488},3.3327009033436161E-4]
[0.39999999999997998,{"$f":"IF(Items!B$5, IF(Items!B$6, Curves!B66, 1-Curves!B66), 1)","v":1.9646769947689324E-2},{"$f":"IF(Items!C$5, IF(Items!C$6, Curves!C66, 1-Curves!C66), 1)","v":0.23124039789999973},{"$f":"IF(Items!D$5, IF(Items!D$6, Curves!D66, 1-Curves!D66), 1)","v":0.70534631536097725},{"$f":"IF(Items!E$5, IF(Items!E$6, Curves!E66, 1-Curves!E66), 1)","v":0.58484686290401022},{"$f":"IF(Items!F$5, IF(Items!F$6, Curves!F66, 1-Curves!F66), 1)","v":0.15709546888544954},2.94417142560756E-4]
[0.49999999999998002,{"$f":"IF(Items!B$5, IF(Items!B$6, Curves!B67, 1-Curves!B67), 1)","v":1.6626356107882323E-2},{"$f":"IF(Items!C$5, IF(Items!C$6, Curves!C67, 1-Curves!C67), 1)","v":0.21672966212055766},{"$f":"IF(Items!D$5, IF(Items!D$6, Curves!D67, 1-Curves!D67), 1)","v":0.73985455236249698},{"$f":"IF(Items!E$5, IF(Items!E$6, Curves!E67, 1-Curves!E67), 1)","v":0.55197958490209675},{"$f":"IF(Items!F$5, IF(Items!F$6, Curves!F67, 1-Curves!F67), 1)","v":0.17364664701900157},{"$f":"PRODUCT(B67:F67)","v":2.5553547483868209E-4}]
[0.59999999999997999,{"$f":"IF(Items!B$5, IF(Items!B$6, Curves!B68, 1-Curves!B68), 1)","v":1.406362704324593E-2},{"$f":"IF(Items!C$5, IF(Items!C$6, Curves!C68, 1-Curves!C68), 1)","v":0.20280481332987299},{"$f":"IF(Items!D$5, IF(Items!D$6, Curves!D68, 1-Curves!D68), 1)","v":0.77184458500388986},{"$f":"IF(Items!E$5, IF(Items!E$6, Curves!E68, 1-Curves!E68), 1)","v":0.51652504498064367},{"$f":"IF(Items!F$5, IF(Items!F$6, Curves!F68, 1-Curves!F68), 1)","v":0.19154534856146377},2.1780530573431935E-4]
[0.69999999999997997,{"$f":"IF(Items!B$5, IF(Items!B$6, Curves!B69, 1-Curves!B69), 1)","v":1.1891131644387376E-2},{"$f":"IF(Items!C$5, IF(Items!C$6, Curves!C69, 1-Curves!C69), 1)","v":0.18948398741851813},{"$f":"IF(Items!D$5, IF(Items!D$6, Curves!D69, 1-Curves!D69), 1)","v":0.8011234970018255},{"$f":"IF(Items!E$5, IF(Items!E$6, Curves!E69, 1-Curves!E69), 1)","v":0.47895012808996928},{"$f":"IF(Items!F$5, IF(Items!F$6, Curves!F69, 1-Curves!F69), 1)","v":0.21081829347774311},1.8226100448039343E-4]
[0.79999999999997995,{"$f":"IF(Items!B$5, IF(Items!B$6, Curves!B70, 1-Curves!B70), 1)","v":1.0050813883474063E-2},{"$f":"IF(Items!C$5, IF(Items!C$6, Curves!C70, 1-Curves!C70), 1)","v":0.17677911377615274},{"$f":"IF(Items!D$5, IF(Items!D$6, Curves!D70, 1-Curves!D70), 1)","v":0.82760918629467417},{"$f":"IF(Items!E$5, IF(Items!E$6, Curves!E70, 1-Curves!E70), 1)","v":0.43986719784999018},{"$f":"IF(Items!F$5, IF(Items!F$6, Curves!F70, 1-Curves!F70), 1)","v":0.23147521650097808},1.4972129041376819E-4]
[0.89999999999998004,{"$f":"IF(Items!B$5, IF(Items!B$6, Curves!B71, 1-Curves!B71), 1)","v":8.4928628516446336E-3},{"$f":"IF(Items!C$5, IF(Items!C$6, Curves!C71, 1-Curves!C71), 1)","v":0.1646962974407602},{"$f":"IF(Items!D$5, IF(Items!D$6, Curves!D71, 1-Curves!D71), 1)","v":0.85131561682844237},{"$f":"IF(Items!E$5, IF(Items!E$6, Curves!E71, 1-Curves!E71), 1)","v":0.4000000000000079},{"$f":"IF(Items!F$5, IF(Items!F$6, Curves!F71, 1-Curves!F71), 1)","v":0.2535060166623333},1.2074712796201017E-4]
[0.99999999999998002,{"$f":"IF(Items!B$5, IF(Items!B$6, Curves!B72, 1-Curves!B72), 1)","v":7.1746556090750424E-3},{"$f":"IF(Items!C$5, IF(Items!C$6, Curves!C72, 1-Curves!C72), 1)","v":0.15323627884917612},{"$f":"IF(Items!D$5, IF(Items!D$6, Curves!D72, 1-Curves!D72), 1)","v":0.87233404158955707},{"$f":"IF(Items!E$5, IF(Items!E$6, Curves!E72, 1-Curves!E72), 1)","v":0.36013280215002563},{"$f":"IF(Items!F$5, IF(Items!F$6, Curves!F72, 1-Curves!F72), 1)","v":0.27687819487560539},9.5630606934680998E-5]
[1.0999999999999801,{"$f":"IF(Items!B$5, IF(Items!B$6, Curves!B73, 1-Curves!B73), 1)","v":6.0598014915844711E-3},{"$f":"IF(Items!C$5, IF(Items!C$6, Curves!C73, 1-Curves!C73), 1)","v":0.14239494862899926},{"$f":"IF(Items!D$5, IF(Items!D$6, Curves!D73, 1-Curves!D73), 1)","v":0.89081304589743338},{"$f":"IF(Items!E$5, IF(Items!E$6, Curves!E73, 1-Curves!E73), 1)","v":0.32104987191004608},{"$f":"IF(Items!F$5, IF(Items!F$6, Curves!F73, 1-Curves!F73), 1)","v":0.3015347839974562},7.4413112209450723E-5]
[1.19999999999998,{"$f":"IF(Items!B$5, IF(Items!B$6, Curves!B74, 1-Curves!B74), 1)","v":5.1172892300416217E-3},{"$f":"IF(Items!C$5, IF(Items!C$6, Curves!C74, 1-Curves!C74), 1)","v":0.13216389615249358},{"$f":"IF(Items!D$5, IF(Items!D$6, Curves!D74, 1-Curves!D74), 1)","v":0.90693959368757249},{"$f":"IF(Items!E$5, IF(Items!E$6, Curves!E74, 1-Curves!E74), 1)","v":0.28347495501937092},{"$f":"IF(Items!F$5, IF(Items!F$6, Curves!F74, 1-Curves!F74), 1)","v":0.32739298293223423},5.6926596743547998E-5]
[1.2999999999999801,{"$f":"IF(Items!B$5, IF(Items!B$6, Curves!B75, 1-Curves!B75), 1)","v":4.3207335199121344E-3},{"$f":"IF(Items!C$5, IF(Items!C$6, Curves!C75, 1-Curves!C75), 1)","v":0.12253097261207069},{"$f":"IF(Items!D$5, IF(Items!D$6, Curves!D75, 1-Curves!D75), 1)","v":0.92092247665362625},{"$f":"IF(Items!E$5, IF(Items!E$6, Curves!E75, 1-Curves!E75), 1)","v":0.24802041509791684},{"$f":"IF(Items!F$5, IF(Items!F$6, Curves!F75, 1-Curves!F75), 1)","v":0.35434369377419905},4.2848791120801492E-5]
[1.3999999999999799,{"$f":"IF(Items!B$5, IF(Items!B$6, Curves!B76, 1-Curves!B76), 1)","v":3.6477148207749721E-3},{"$f":"IF(Items!C$5, IF(Items!C$6, Curves!C76, 1-Curves!C76), 1)","v":0.11348085192039203},{"$f":"IF(Items!D$5, IF(Items!D$6, Curves!D76, 1-Curves!D76), 1)","v":0.93297884935057251},{"$f":"IF(Items!E$5, IF(Items!E$6, Curves!E76, 1-Curves!E76), 1)","v":0.21515313709600226},{"$f":"IF(Items!F$5, IF(Items!F$6, Curves!F76, 1-Curves!F76), 1)","v":0.38225212523074531},3.1762366673882187E-5]
[1.49999999999998,{"$f":"IF(Items!B$5, IF(Items!B$6, Curves!B77, 1-Curves!B77), 1)","v":3.0792046214773716E-3},{"$f":"IF(Items!C$5, IF(Items!C$6, Curves!C77, 1-Curves!C77), 1)","v":0.10499557555082029},{"$f":"IF(Items!D$5, IF(Items!D$6, Curves!D77, 1-Curves!D77), 1)","v":0.94332397954870129},{"$f":"IF(Items!E$5, IF(Items!E$6, Curves!E77, 1-Curves!E77), 1)","v":0.18518017320079161},{"$f":"IF(Items!F$5, IF(Items!F$6, Curves!F77, 1-Curves!F77), 1)","v":0.41095956594132904},2.3209404782784342E-5]
[1.5999999999999801,{"$f":"IF(Items!B$5, IF(Items!B$6, Curves!B78, 1-Curves!B78), 1)","v":2.5990677623234371E-3},{"$f":"IF(Items!C$5, IF(Items!C$6, Curves!C78, 1-Curves!C78), 1)","v":9.7055070313390779E-2},{"$f":"IF(Items!D$5, IF(Items!D$6, Curves!D78, 1-Curves!D78), 1)","v":0.95216397724174096},{"$f":"IF(Items!E$5, IF(Items!E$6, Curves!E78, 1-Curves!E78), 1)","v":0.15825288915313962},{"$f":"IF(Items!F$5, IF(Items!F$6, Curves!F78, 1-Curves!F78), 1)","v":0.44028635073280109},1.6735336440943313E-5]
[1.69999999999998,{"$f":"IF(Items!B$5, IF(Items!B$6, Curves!B79, 1-Curves!B79), 1)","v":2.1936333567087463E-3},{"$f":"IF(Items!C$5, IF(Items!C$6, Curves!C79, 1-Curves!C79), 1)","v":8.963763084559373E-2},{"$f":"IF(Items!D$5, IF(Items!D$6, Curves!D79, 1-Curves!D79), 1)","v":0.9596910672551906},{"$f":"IF(Items!E$5, IF(Items!E$6, Curves!E79, 1-Curves!E79), 1)","v":0.13438529189286474},{"$f":"IF(Items!F$5, IF(Items!F$6, Curves!F79, 1-Curves!F79), 1)","v":0.47003594823542227},1.1919791977860138E-5]
[1.7999999999999801,{"$f":"IF(Items!B$5, IF(Items!B$6, Curves!B80, 1-Curves!B80), 1)","v":1.8513261812059811E-3},{"$f":"IF(Items!C$5, IF(Items!C$6, Curves!C80, 1-Curves!C80), 1)","v":8.2720361166600975E-2},{"$f":"IF(Items!D$5, IF(Items!D$6, Curves!D80, 1-Curves!D80), 1)","v":0.96608089854225343},{"$f":"IF(Items!E$5, IF(Items!E$6, Curves!E80, 1-Curves!E80), 1)","v":0.11348085192039403},{"$f":"IF(Items!F$5, IF(Items!F$6, Curves!F80, 1-Curves!F80), 1)","v":0.499999999999994},8.3946279297585926E-6]
[1.8999999999999799,{"$f":"IF(Items!B$5, IF(Items!B$6, Curves!B81, 1-Curves!B81), 1)","v":1.5623509503289723E-3},{"$f":"IF(Items!C$5, IF(Items!C$6, Curves!C81, 1-Curves!C81), 1)","v":7.6279571919288802E-2},{"$f":"IF(Items!D$5, IF(Items!D$6, Curves!D81, 1-Curves!D81), 1)","v":0.97149139445884813},{"$f":"IF(Items!E$5, IF(Items!E$6, Curves!E81, 1-Curves!E81), 1)","v":9.5362337617697301E-2},{"$f":"IF(Items!F$5, IF(Items!F$6, Curves!F81, 1-Curves!F81), 1)","v":0.52996405176456574},5.8512560224448779E-6]
[1.99999999999998,{"$f":"IF(Items!B$5, IF(Items!B$6, Curves!B82, 1-Curves!B82), 1)","v":1.3184225532338889E-3},{"$f":"IF(Items!C$5, IF(Items!C$6, Curves!C82, 1-Curves!C82), 1)","v":7.0291131863442047E-2},{"$f":"IF(Items!D$5, IF(Items!D$6, Curves!D82, 1-Curves!D82), 1)","v":0.97606270578081988},{"$f":"IF(Items!E$5, IF(Items!E$6, Curves!E82, 1-Curves!E82), 1)","v":7.9800391295751005E-2},{"$f":"IF(Items!F$5, IF(Items!F$6, Curves!F82, 1-Curves!F82), 1)","v":0.55971364926718703},4.0402086866635938E-6]
[2.0999999999999699,{"$f":"IF(Items!B$5, IF(Items!B$6, Curves!B83, 1-Curves!B83), 1)","v":1.1125360328604339E-3},{"$f":"IF(Items!C$5, IF(Items!C$6, Curves!C83, 1-Curves!C83), 1)","v":6.4730773772373684E-2},{"$f":"IF(Items!D$5, IF(Items!D$6, Curves!D83, 1-Curves!D83), 1)","v":0.97991790517086996},{"$f":"IF(Items!E$5, IF(Items!E$6, Curves!E83, 1-Curves!E83), 1)","v":6.6538157195141556E-2},{"$f":"IF(Items!F$5, IF(Items!F$6, Curves!F83, 1-Curves!F83), 1)","v":0.58904043405865636},2.7658616568563366E-6]
[2.19999999999997,{"$f":"IF(Items!B$5, IF(Items!B$6, Curves!B84, 1-Curves!B84), 1)","v":9.3877078713799911E-4},{"$f":"IF(Items!C$5, IF(Items!C$6, Curves!C84, 1-Curves!C84), 1)","v":5.9574356132823914E-2},{"$f":"IF(Items!D$5, IF(Items!D$6, Curves!D84, 1-Curves!D84), 1)","v":0.98316414104107996},{"$f":"IF(Items!E$5, IF(Items!E$6, Curves!E84, 1-Curves!E84), 1)","v":5.5310736274680528E-2},{"$f":"IF(Items!F$5, IF(Items!F$6, Curves!F84, 1-Curves!F84), 1)","v":0.61774787476924042},1.8787355518760212E-6]
[2.2999999999999701,{"$f":"IF(Items!B$5, IF(Items!B$6, Curves!B85, 1-Curves!B85), 1)","v":7.9212413839524487E-4},{"$f":"IF(Items!C$5, IF(Items!C$6, Curves!C85, 1-Curves!C85), 1)","v":5.4798082979462093E-2},{"$f":"IF(Items!D$5, IF(Items!D$6, Curves!D85, 1-Curves!D85), 1)","v":0.98589404074055564},{"$f":"IF(Items!E$5, IF(Items!E$6, Curves!E85, 1-Curves!E85), 1)","v":4.5859340719097474E-2},{"$f":"IF(Items!F$5, IF(Items!F$6, Curves!F85, 1-Curves!F85), 1)","v":0.64565630622578729},1.2671209140970735E-6]
[2.3999999999999702,{"$f":"IF(Items!B$5, IF(Items!B$6, Curves!B86, 1-Curves!B86), 1)","v":6.6837003479547352E-4},{"$f":"IF(Items!C$5, IF(Items!C$6, Curves!C86, 1-Curves!C86), 1)","v":5.0378684845598265E-2},{"$f":"IF(Items!D$5, IF(Items!D$6, Curves!D86, 1-Curves!D86), 1)","v":0.98818721349660688},{"$f":"IF(Items!E$5, IF(Items!E$6, Curves!E86, 1-Curves!E86), 1)","v":3.7940698542055618E-2},{"$f":"IF(Items!F$5, IF(Items!F$6, Curves!F86, 1-Curves!F86), 1)","v":0.67260701706775261},8.4912131577563006E-7]
[2.4999999999999698,{"$f":"IF(Items!B$5, IF(Items!B$6, Curves!B87, 1-Curves!B87), 1)","v":5.6393920869224345E-4},{"$f":"IF(Items!C$5, IF(Items!C$6, Curves!C87, 1-Curves!C87), 1)","v":4.6293564221089989E-2},{"$f":"IF(Items!D$5, IF(Items!D$6, Curves!D87, 1-Curves!D87), 1)","v":0.99011175163246556},{"$f":"IF(Items!E$5, IF(Items!E$6, Curves!E87, 1-Curves!E87), 1)","v":3.13325782374132E-2},{"$f":"IF(Items!F$5, IF(Items!F$6, Curves!F87, 1-Curves!F87), 1)","v":0.69846521600253109},5.6568939952344182E-7]
[2.5999999999999699,{"$f":"IF(Items!B$5, IF(Items!B$6, Curves!B88, 1-Curves!B88), 1)","v":4.7581761883841445E-4},{"$f":"IF(Items!C$5, IF(Items!C$6, Curves!C88, 1-Curves!C88), 1)","v":4.2520909118451966E-2},{"$f":"IF(Items!D$5, IF(Items!D$6, Curves!D88, 1-Curves!D88), 1)","v":0.99172566516944016},{"$f":"IF(Items!E$5, IF(Items!E$6, Curves!E88, 1-Curves!E88), 1)","v":2.5836371758761967E-2},{"$f":"IF(Items!F$5, IF(Items!F$6, Curves!F88, 1-Curves!F88), 1)","v":0.72312180512438251},3.7486733244488947E-7]
[2.69999999999997,{"$f":"IF(Items!B$5, IF(Items!B$6, Curves!B89, 1-Curves!B89), 1)","v":4.0146044758282429E-4},{"$f":"IF(Items!C$5, IF(Items!C$6, Curves!C89, 1-Curves!C89), 1)","v":3.9039778399040825E-2},{"$f":"IF(Items!D$5, IF(Items!D$6, Curves!D89, 1-Curves!D89), 1)","v":0.99307821170664212},{"$f":"IF(Items!E$5, IF(Items!E$6, Curves!E89, 1-Curves!E89), 1)","v":2.1277594861493832E-2},{"$f":"IF(Items!F$5, IF(Items!F$6, Curves!F89, 1-Curves!F89), 1)","v":0.74649398333765538},2.4721932077573679E-7]
[2.7999999999999701,{"$f":"IF(Items!B$5, IF(Items!B$6, Curves!B90, 1-Curves!B90), 1)","v":3.387193137152078E-4},{"$f":"IF(Items!C$5, IF(Items!C$6, Curves!C90, 1-Curves!C90), 1)","v":3.5830162439830282E-2},{"$f":"IF(Items!D$5, IF(Items!D$6, Curves!D90, 1-Curves!D90), 1)","v":0.99421110237977295},{"$f":"IF(Items!E$5, IF(Items!E$6, Curves!E90, 1-Curves!E90), 1)","v":1.7505016748905478E-2},{"$f":"IF(Items!F$5, IF(Items!F$6, Curves!F90, 1-Curves!F90), 1)","v":0.76852478349901132},1.623258756594923E-7]
[2.8999999999999702,{"$f":"IF(Items!B$5, IF(Items!B$6, Curves!B91, 1-Curves!B91), 1)","v":2.8578070084195328E-4},{"$f":"IF(Items!C$5, IF(Items!C$6, Curves!C91, 1-Curves!C91), 1)","v":3.2873022560372833E-2},{"$f":"IF(Items!D$5, IF(Items!D$6, Curves!D91, 1-Curves!D91), 1)","v":0.99515957754353612},{"$f":"IF(Items!E$5, IF(Items!E$6, Curves!E91, 1-Curves!E91), 1)","v":1.4388967969674038E-2},{"$f":"IF(Items!F$5, IF(Items!F$6, Curves!F91, 1-Curves!F91), 1)","v":0.78918170652224684},1.0616269071025674E-7]
[2.9999999999999698,{"$f":"IF(Items!B$5, IF(Items!B$6, Curves!B92, 1-Curves!B92), 1)","v":2.4111389494740898E-4},{"$f":"IF(Items!C$5, IF(Items!C$6, Curves!C92, 1-Curves!C92), 1)","v":3.0150312406885371E-2},{"$f":"IF(Items!D$5, IF(Items!D$6, Curves!D92, 1-Curves!D92), 1)","v":0.99595335415515274},{"$f":"IF(Items!E$5, IF(Items!E$6, Curves!E92, 1-Curves!E92), 1)","v":1.181922535461899E-2},{"$f":"IF(Items!F$5, IF(Items!F$6, Curves!F92, 1-Curves!F92), 1)","v":0.80845465143852691},6.918273566766346E-8]
[3.0999999999999699,{"$f":"IF(Items!B$5, IF(Items!B$6, Curves!B93, 1-Curves!B93), 1)","v":2.0342697805519894E-4},{"$f":"IF(Items!C$5, IF(Items!C$6, Curves!C93, 1-Curves!C93), 1)","v":2.7644984229021841E-2},{"$f":"IF(Items!D$5, IF(Items!D$6, Curves!D93, 1-Curves!D93), 1)","v":0.99661745191734918},{"$f":"IF(Items!E$5, IF(Items!E$6, Curves!E93, 1-Curves!E93), 1)","v":9.7027479874198796E-3},{"$f":"IF(Items!F$5, IF(Items!F$6, Curves!F93, 1-Curves!F93), 1)","v":0.82635335298098977},4.4938019369996298E-8]
[3.19999999999997,{"$f":"IF(Items!B$5, IF(Items!B$6, Curves!B94, 1-Curves!B94), 1)","v":1.7162964243377932E-4},{"$f":"IF(Items!C$5, IF(Items!C$6, Curves!C94, 1-Curves!C94), 1)","v":2.5340982703245585E-2},{"$f":"IF(Items!D$5, IF(Items!D$6, Curves!D94, 1-Curves!D94), 1)","v":0.99717290804365333},{"$f":"IF(Items!E$5, IF(Items!E$6, Curves!E94, 1-Curves!E94), 1)","v":7.9614414935238464E-3},{"$f":"IF(Items!F$5, IF(Items!F$6, Curves!F94, 1-Curves!F94), 1)","v":0.84290453111454244},2.9104243636496597E-8]
[3.2999999999999701,{"$f":"IF(Items!B$5, IF(Items!B$6, Curves!B95, 1-Curves!B95), 1)","v":1.4480177609177414E-4},{"$f":"IF(Items!C$5, IF(Items!C$6, Curves!C95, 1-Curves!C95), 1)","v":2.3223228669073226E-2},{"$f":"IF(Items!D$5, IF(Items!D$6, Curves!D95, 1-Curves!D95), 1)","v":0.99763739176900568},{"$f":"IF(Items!E$5, IF(Items!E$6, Curves!E95, 1-Curves!E95), 1)","v":6.5300569225281713E-3},{"$f":"IF(Items!F$5, IF(Items!F$6, Curves!F95, 1-Curves!F95), 1)","v":0.85814893509950785},1.8799610028153867E-8]
[3.3999999999999702,{"$f":"IF(Items!B$5, IF(Items!B$6, Curves!B96, 1-Curves!B96), 1)","v":1.2216692943689544E-4},{"$f":"IF(Items!C$5, IF(Items!C$6, Curves!C96, 1-Curves!C96), 1)","v":2.1277594861493165E-2},{"$f":"IF(Items!D$5, IF(Items!D$6, Curves!D96, 1-Curves!D96), 1)","v":0.99802572997896211},{"$f":"IF(Items!E$5, IF(Items!E$6, Curves!E96, 1-Curves!E96), 1)","v":5.3542807394280079E-3},{"$f":"IF(Items!F$5, IF(Items!F$6, Curves!F96, 1-Curves!F96), 1)","v":0.8721384336809147},1.2114472151828652E-8]
[3.4999999999999698,{"$f":"IF(Items!B$5, IF(Items!B$6, Curves!B97, 1-Curves!B97), 1)","v":1.0306990864850096E-4},{"$f":"IF(Items!C$5, IF(Items!C$6, Curves!C97, 1-Curves!C97), 1)","v":1.9490875452222722E-2},{"$f":"IF(Items!D$5, IF(Items!D$6, Curves!D97, 1-Curves!D97), 1)","v":0.9983503549517565},{"$f":"IF(Items!E$5, IF(Items!E$6, Curves!E97, 1-Curves!E97), 1)","v":4.3890391195604561E-3},{"$f":"IF(Items!F$5, IF(Items!F$6, Curves!F97, 1-Curves!F97), 1)","v":0.88493326795444649},7.789797857562937E-9]
[3.5999999999999699,{"$f":"IF(Items!B$5, IF(Items!B$6, Curves!B98, 1-Curves!B98), 1)","v":8.6957856768044017E-5},{"$f":"IF(Items!C$5, IF(Items!C$6, Curves!C98, 1-Curves!C98), 1)","v":1.7850750959226058E-2},{"$f":"IF(Items!D$5, IF(Items!D$6, Curves!D98, 1-Curves!D98), 1)","v":0.99862168446369692},{"$f":"IF(Items!E$5, IF(Items!E$6, Curves!E98, 1-Curves!E98), 1)","v":3.5970185287530487E-3},{"$f":"IF(Items!F$5, IF(Items!F$6, Curves!F98, 1-Curves!F98), 1)","v":0.89659954854174695},4.9992804597555463E-9]
[3.69999999999997,{"$f":"IF(Items!B$5, IF(Items!B$6, Curves!B99, 1-Curves!B99), 1)","v":7.3364281637733342E-5},{"$f":"IF(Items!C$5, IF(Items!C$6, Curves!C99, 1-Curves!C99), 1)","v":1.634574985124293E-2},{"$f":"IF(Items!D$5, IF(Items!D$6, Curves!D99, 1-Curves!D99), 1)","v":0.99884844357898317},{"$f":"IF(Items!E$5, IF(Items!E$6, Curves!E99, 1-Curves!E99), 1)","v":2.9473919195488474E-3},{"$f":"IF(Items!F$5, IF(Items!F$6, Curves!F99, 1-Curves!F99), 1)","v":0.90720704688283993},3.2028265396812539E-9]
[3.7999999999999701,{"$f":"IF(Items!B$5, IF(Items!B$6, Curves!B100, 1-Curves!B100), 1)","v":6.1895573118753155E-5},{"$f":"IF(Items!C$5, IF(Items!C$6, Curves!C100, 1-Curves!C100), 1)","v":1.4965207963484106E-2},{"$f":"IF(Items!D$5, IF(Items!D$6, Curves!D100, 1-Curves!D100), 1)","v":0.99903793644780214},{"$f":"IF(Items!E$5, IF(Items!E$6, Curves!E100, 1-Curves!E100), 1)","v":2.4147330597668049E-3},{"$f":"IF(Items!F$5, IF(Items!F$6, Curves!F100, 1-Curves!F100), 1)","v":0.91682730350607489},2.0487123775755563E-9]
[3.8999999999999702,{"$f":"IF(Items!B$5, IF(Items!B$6, Curves!B101, 1-Curves!B101), 1)","v":5.2219622644344987E-5},{"$f":"IF(Items!C$5, IF(Items!C$6, Curves!C101, 1-Curves!C101), 1)","v":1.3699226652582386E-2},{"$f":"IF(Items!D$5, IF(Items!D$6, Curves!D101, 1-Curves!D101), 1)","v":0.99919627544593159},{"$f":"IF(Items!E$5, IF(Items!E$6, Curves!E101, 1-Curves!E101), 1)","v":1.9780985253079475E-3},{"$f":"IF(Items!F$5, IF(Items!F$6, Curves!F101, 1-Curves!F101), 1)","v":0.92553205483396939},1.3086393364103787E-9]
[3.9999999999999698,{"$f":"IF(Items!B$5, IF(Items!B$6, Curves!B102, 1-Curves!B102), 1)","v":4.4056218025612104E-5},{"$f":"IF(Items!C$5, IF(Items!C$6, Curves!C102, 1-Curves!C102), 1)","v":1.2538630452839206E-2},{"$f":"IF(Items!D$5, IF(Items!D$6, Curves!D102, 1-Curves!D102), 1)","v":0.999328574049547},{"$f":"IF(Items!E$5, IF(Items!E$6, Curves!E102, 1-Curves!E102), 1)","v":1.6202563112399648E-3},{"$f":"IF(Items!F$5, IF(Items!F$6, Curves!F102, 1-Curves!F102), 1)","v":0.93339196442490713},8.3485951349416656E-10]
[4.0999999999999703,{"$f":"IF(Items!B$5, IF(Items!B$6, Curves!B103, 1-Curves!B103), 1)","v":3.7168937102927124E-5},{"$f":"IF(Items!C$5, IF(Items!C$6, Curves!C103, 1-Curves!C103), 1)","v":1.1474924850790824E-2},{"$f":"IF(Items!D$5, IF(Items!D$6, Curves!D103, 1-Curves!D103), 1)","v":0.99943910897474075},{"$f":"IF(Items!E$5, IF(Items!E$6, Curves!E103, 1-Curves!E103), 1)","v":1.3270408641394837E-3},{"$f":"IF(Items!F$5, IF(Items!F$6, Curves!F103, 1-Curves!F103), 1)","v":0.94047563402349643},5.3200801665823063E-10]
[4.19999999999997,{"$f":"IF(Items!B$5, IF(Items!B$6, Curves!B104, 1-Curves!B104), 1)","v":3.1358306721296358E-5},{"$f":"IF(Items!C$5, IF(Items!C$6, Curves!C104, 1-Curves!C104), 1)","v":1.0500254669682407E-2},{"$f":"IF(Items!D$5, IF(Items!D$6, Curves!D104, 1-Curves!D104), 1)","v":0.99953145633330021},{"$f":"IF(Items!E$5, IF(Items!E$6, Curves!E104, 1-Curves!E104), 1)","v":1.0868159603432126E-3},{"$f":"IF(Items!F$5, IF(Items!F$6, Curves!F104, 1-Curves!F104), 1)","v":0.94684886360193443},3.3867689725892146E-10]
[4.2999999999999696,{"$f":"IF(Items!B$5, IF(Items!B$6, Curves!B105, 1-Curves!B105), 1)","v":2.6456029787014224E-5},{"$f":"IF(Items!C$5, IF(Items!C$6, Curves!C105, 1-Curves!C105), 1)","v":9.6073634479421077E-3},{"$f":"IF(Items!D$5, IF(Items!D$6, Curves!D105, 1-Curves!D105), 1)","v":0.99960860586689115},{"$f":"IF(Items!E$5, IF(Items!E$6, Curves!E105, 1-Curves!E105), 1)","v":8.9002882628830271E-4},{"$f":"IF(Items!F$5, IF(Items!F$6, Curves!F105, 1-Curves!F105), 1)","v":0.95257412682243148},2.1540795209817462E-10]
[4.3999999999999702,{"$f":"IF(Items!B$5, IF(Items!B$6, Curves!B106, 1-Curves!B106), 1)","v":2.2320113834295441E-5},{"$f":"IF(Items!C$5, IF(Items!C$6, Curves!C106, 1-Curves!C106), 1)","v":8.7895541044749059E-3},{"$f":"IF(Items!D$5, IF(Items!D$6, Curves!D106, 1-Curves!D106), 1)","v":0.99967305671810369},{"$f":"IF(Items!E$5, IF(Items!E$6, Curves!E106, 1-Curves!E106), 1)","v":7.2884095552039341E-4},{"$f":"IF(Items!F$5, IF(Items!F$6, Curves!F106, 1-Curves!F106), 1)","v":0.9577102281579648},1.3689517162342545E-10]
[4.4999999999999698,{"$f":"IF(Items!B$5, IF(Items!B$6, Curves!B107, 1-Curves!B107), 1)","v":1.8830760452837048E-5},{"$f":"IF(Items!C$5, IF(Items!C$6, Curves!C107, 1-Curves!C107), 1)","v":8.0406511067792064E-3},{"$f":"IF(Items!D$5, IF(Items!D$6, Curves!D107, 1-Curves!D107), 1)","v":0.99972689767297407},{"$f":"IF(Items!E$5, IF(Items!E$6, Curves!E107, 1-Curves!E107), 1)","v":5.9682306706942967E-4},{"$f":"IF(Items!F$5, IF(Items!F$6, Curves!F107, 1-Curves!F107), 1)","v":0.96231210949139268},8.6936470551532965E-11]
[4.5999999999999703,{"$f":"IF(Items!B$5, IF(Items!B$6, Curves!B108, 1-Curves!B108), 1)","v":1.5886896833294806E-5},{"$f":"IF(Items!C$5, IF(Items!C$6, Curves!C108, 1-Curves!C108), 1)","v":7.3549642938306459E-3},{"$f":"IF(Items!D$5, IF(Items!D$6, Curves!D108, 1-Curves!D108), 1)","v":0.99977187435830517},{"$f":"IF(Items!E$5, IF(Items!E$6, Curves!E108, 1-Curves!E108), 1)","v":4.8870348754737059E-4},{"$f":"IF(Items!F$5, IF(Items!F$6, Curves!F108, 1-Curves!F108), 1)","v":0.96643077671851629},5.5174289493745816E-11]
[4.69999999999997,{"$f":"IF(Items!B$5, IF(Items!B$6, Curves!B109, 1-Curves!B109), 1)","v":1.3403249192633915E-5},{"$f":"IF(Items!C$5, IF(Items!C$6, Curves!C109, 1-Curves!C109), 1)","v":6.7272544527705591E-3},{"$f":"IF(Items!D$5, IF(Items!D$6, Curves!D109, 1-Curves!D109), 1)","v":0.99980944549051687},{"$f":"IF(Items!E$5, IF(Items!E$6, Curves!E109, 1-Curves!E109), 1)","v":4.0016088566363628E-4},{"$f":"IF(Items!F$5, IF(Items!F$6, Curves!F109, 1-Curves!F109), 1)","v":0.97011332019636276},3.4996312469900981E-11]
[4.7999999999999696,{"$f":"IF(Items!B$5, IF(Items!B$6, Curves!B110, 1-Curves!B110), 1)","v":1.1307873466259721E-5},{"$f":"IF(Items!C$5, IF(Items!C$6, Curves!C110, 1-Curves!C110), 1)","v":6.1527007052066818E-3},{"$f":"IF(Items!D$5, IF(Items!D$6, Curves!D110, 1-Curves!D110), 1)","v":0.9998408299430801},{"$f":"IF(Items!E$5, IF(Items!E$6, Curves!E110, 1-Curves!E110), 1)","v":3.2765373198873071E-4},{"$f":"IF(Items!F$5, IF(Items!F$6, Curves!F110, 1-Curves!F110), 1)","v":0.97340300642313327},2.2186326492781184E-11]
[4.8999999999999604,{"$f":"IF(Items!B$5, IF(Items!B$6, Curves!B111, 1-Curves!B111), 1)","v":9.5400718591598377E-6},{"$f":"IF(Items!C$5, IF(Items!C$6, Curves!C111, 1-Curves!C111), 1)","v":5.6268697239962862E-3},{"$f":"IF(Items!D$5, IF(Items!D$6, Curves!D111, 1-Curves!D111), 1)","v":0.99986704611950894},{"$f":"IF(Items!E$5, IF(Items!E$6, Curves!E111, 1-Curves!E111), 1)","v":2.6828010437318639E-4},{"$f":"IF(Items!F$5, IF(Items!F$6, Curves!F111, 1-Curves!F111), 1)","v":0.9763394218445377},1.4058858283317001E-11]
[4.99999999999996,{"$f":"IF(Items!B$5, IF(Items!B$6, Curves!B112, 1-Curves!B112), 1)","v":8.0486349796071721E-6},{"$f":"IF(Items!C$5, IF(Items!C$6, Curves!C112, 1-Curves!C112), 1)","v":5.1456867735351075E-3},{"$f":"IF(Items!D$5, IF(Items!D$6, Curves!D112, 1-Curves!D112), 1)","v":0.99988894488161228},{"$f":"IF(Items!E$5, IF(Items!E$6, Curves!E112, 1-Curves!E112), 1)","v":2.196625248811479E-4},{"$f":"IF(Items!F$5, IF(Items!F$6, Curves!F112, 1-Curves!F112), 1)","v":0.97895865297953066},8.9050767246064159E-12]
[5.0999999999999597,{"$f":"IF(Items!B$5, IF(Items!B$6, Curves!B113, 1-Curves!B113), 1)","v":6.7903586979944919E-6},{"$f":"IF(Items!C$5, IF(Items!C$6, Curves!C113, 1-Curves!C113), 1)","v":4.7054085447373328E-3},{"$f":"IF(Items!D$5, IF(Items!D$6, Curves!D113, 1-Curves!D113), 1)","v":0.99990723708221629},{"$f":"IF(Items!E$5, IF(Items!E$6, Curves!E113, 1-Curves!E113), 1)","v":1.7985341618653727E-4},{"$f":"IF(Items!F$5, IF(Items!F$6, Curves!F113, 1-Curves!F113), 1)","v":0.98129349004564437},5.6385491948998212E-12]
[5.1999999999999602,{"$f":"IF(Items!B$5, IF(Items!B$6, Curves!B114, 1-Curves!B114), 1)","v":5.7287928070248739E-6},{"$f":"IF(Items!C$5, IF(Items!C$6, Curves!C114, 1-Curves!C114), 1)","v":4.3025977390789283E-3},{"$f":"IF(Items!D$5, IF(Items!D$6, Curves!D114, 1-Curves!D114), 1)","v":0.9999225165824851},{"$f":"IF(Items!E$5, IF(Items!E$6, Curves!E114, 1-Curves!E114), 1)","v":1.472575239707119E-4},{"$f":"IF(Items!F$5, IF(Items!F$6, Curves!F114, 1-Curves!F114), 1)","v":0.98337364389211745},3.5690798655083354E-12]
[5.2999999999999599,{"$f":"IF(Items!B$5, IF(Items!B$6, Curves!B115, 1-Curves!B115), 1)","v":4.8331852617877757E-6},{"$f":"IF(Items!C$5, IF(Items!C$6, Curves!C115, 1-Curves!C115), 1)","v":3.9340993434884286E-3},{"$f":"IF(Items!D$5, IF(Items!D$6, Curves!D115, 1-Curves!D115), 1)","v":0.99993527949160343},{"$f":"IF(Items!E$5, IF(Items!E$6, Curves!E115, 1-Curves!E115), 1)","v":1.2056828644757545E-4},{"$f":"IF(Items!F$5, IF(Items!F$6, Curves!F115, 1-Curves!F115), 1)","v":0.98522596830672626},2.2584974017027047E-12]
[5.3999999999999604,{"$f":"IF(Items!B$5, IF(Items!B$6, Curves!B116, 1-Curves!B116), 1)","v":4.0775914383894829E-6},{"$f":"IF(Items!C$5, IF(Items!C$6, Curves!C116, 1-Curves!C116), 1)","v":3.5970185287530487E-3},{"$f":"IF(Items!D$5, IF(Items!D$6, Curves!D116, 1-Curves!D116), 1)","v":0.99994594024687722},{"$f":"IF(Items!E$5, IF(Items!E$6, Curves!E116, 1-Curves!E116), 1)","v":9.8715660789006066E-5},{"$f":"IF(Items!F$5, IF(Items!F$6, Curves!F116, 1-Curves!F116), 1)","v":0.98687468166289649},1.4287984466408202E-12]
[5.49999999999996,{"$f":"IF(Items!B$5, IF(Items!B$6, Curves!B117, 1-Curves!B117), 1)","v":3.4401226258751194E-6},{"$f":"IF(Items!C$5, IF(Items!C$6, Curves!C117, 1-Curves!C117), 1)","v":3.2887000978645275E-3},{"$f":"IF(Items!D$5, IF(Items!D$6, Curves!D117, 1-Curves!D117), 1)","v":0.99995484505178456},{"$f":"IF(Items!E$5, IF(Items!E$6, Curves!E117, 1-Curves!E117), 1)","v":8.0823355126158347E-5},{"$f":"IF(Items!F$5, IF(Items!F$6, Curves!F117, 1-Curves!F117), 1)","v":0.98834158344516632},9.036963474314604E-13]
[5.5999999999999597,{"$f":"IF(Items!B$5, IF(Items!B$6, Curves!B118, 1-Curves!B118), 1)","v":2.9023119851867563E-6},{"$f":"IF(Items!C$5, IF(Items!C$6, Curves!C118, 1-Curves!C118), 1)","v":3.0067094068007005E-3},{"$f":"IF(Items!D$5, IF(Items!D$6, Curves!D118, 1-Curves!D118), 1)","v":0.99996228310513335},{"$f":"IF(Items!E$5, IF(Items!E$6, Curves!E118, 1-Curves!E118), 1)","v":6.6173778281219953E-5},{"$f":"IF(Items!F$5, IF(Items!F$6, Curves!F118, 1-Curves!F118), 1)","v":0.98964626246890786},5.714590197123262E-13]
[5.6999999999999602,{"$f":"IF(Items!B$5, IF(Items!B$6, Curves!B119, 1-Curves!B119), 1)","v":2.448579619840352E-6},{"$f":"IF(Items!C$5, IF(Items!C$6, Curves!C119, 1-Curves!C119), 1)","v":2.7488146782030931E-3},{"$f":"IF(Items!D$5, IF(Items!D$6, Curves!D119, 1-Curves!D119), 1)","v":0.99996849598376503},{"$f":"IF(Items!E$5, IF(Items!E$6, Curves!E119, 1-Curves!E119), 1)","v":5.41793196957574E-5},{"$f":"IF(Items!F$5, IF(Items!F$6, Curves!F119, 1-Curves!F119), 1)","v":0.99080629463271153},3.6130029313014733E-13]
[5.7999999999999599,{"$f":"IF(Items!B$5, IF(Items!B$6, Curves!B120, 1-Curves!B120), 1)","v":2.0657812664914843E-6},{"$f":"IF(Items!C$5, IF(Items!C$6, Curves!C120, 1-Curves!C120), 1)","v":2.5129706278637087E-3},{"$f":"IF(Items!D$5, IF(Items!D$6, Curves!D120, 1-Curves!D120), 1)","v":0.99997368548196219},{"$f":"IF(Items!E$5, IF(Items!E$6, Curves!E120, 1-Curves!E120), 1)","v":4.4358819778267389E-5},{"$f":"IF(Items!F$5, IF(Items!F$6, Curves!F120, 1-Curves!F120), 1)","v":0.99183742884683967},2.2839195113544561E-13]
[5.8999999999999604,{"$f":"IF(Items!B$5, IF(Items!B$6, Curves!B121, 1-Curves!B121), 1)","v":1.7428275361774936E-6},{"$f":"IF(Items!C$5, IF(Items!C$6, Curves!C121, 1-Curves!C121), 1)","v":2.2973033245603514E-3},{"$f":"IF(Items!D$5, IF(Items!D$6, Curves!D121, 1-Curves!D121), 1)","v":0.99997802016109116},{"$f":"IF(Items!E$5, IF(Items!E$6, Curves!E121, 1-Curves!E121), 1)","v":3.6318294961867892E-5},{"$f":"IF(Items!F$5, IF(Items!F$6, Curves!F121, 1-Curves!F121), 1)","v":0.9927537604041683},1.4435445803317379E-13]
[5.99999999999996,{"$f":"IF(Items!B$5, IF(Items!B$6, Curves!B122, 1-Curves!B122), 1)","v":1.4703626743939324E-6},{"$f":"IF(Items!C$5, IF(Items!C$6, Curves!C122, 1-Curves!C122), 1)","v":2.1000962053283612E-3},{"$f":"IF(Items!D$5, IF(Items!D$6, Curves!D122, 1-Curves!D122), 1)","v":0.99998164082144814},{"$f":"IF(Items!E$5, IF(Items!E$6, Curves!E122, 1-Curves!E122), 1)","v":2.973514968229729E-5},{"$f":"IF(Items!F$5, IF(Items!F$6, Curves!F122, 1-Curves!F122), 1)","v":0.993567891533081},9.1226993755033892E-14]